BEGIN:VCALENDAR
VERSION:2.0
PRODID:-//Kurs na Giżycko - ECPv6.1.3//NONSGML v1.0//EN
CALSCALE:GREGORIAN
METHOD:PUBLISH
X-WR-CALNAME:Kurs na Giżycko
X-ORIGINAL-URL:https://kursnagizycko.pl
X-WR-CALDESC:Events for Kurs na Giżycko
REFRESH-INTERVAL;VALUE=DURATION:PT1H
X-Robots-Tag:noindex
X-PUBLISHED-TTL:PT1H
BEGIN:VTIMEZONE
TZID:Europe/Warsaw
BEGIN:DAYLIGHT
TZOFFSETFROM:+0100
TZOFFSETTO:+0200
TZNAME:CEST
DTSTART:20260329T010000
END:DAYLIGHT
BEGIN:STANDARD
TZOFFSETFROM:+0200
TZOFFSETTO:+0100
TZNAME:CET
DTSTART:20261025T010000
END:STANDARD
END:VTIMEZONE
BEGIN:VEVENT
DTSTART;VALUE=DATE:20260125
DTEND;VALUE=DATE:20260126
DTSTAMP:20260424T212222
CREATED:20260109T092122Z
LAST-MODIFIED:20260124T093244Z
UID:8184-1769299200-1769385599@kursnagizycko.pl
SUMMARY:34. Finał Wielkiej Orkiestry Świątecznej Pomocy
DESCRIPTION:Program 34. Finału WOŚP w Giżycku\n \nTWIERDZA BOYEN \nWarsztat Zbrojmistrza – Wielkie Miasteczko WOŚP \nWstęp darmowy w dniu finału \n10:00 – 14:00\nLicytacja WOŚP – 12:00 oraz 14:00 (sprawdź przedmioty na licytacje) \nMały zwierzyniec: alpaki\, owce\nPaleniska z kiełbaskami\nKoło Gospodyń – poczęstunek\nPieczenie sękacza\nRozgrzewająca muzyka i gorąca herbata\nWystawa sprzętu wojskowego\nStowarzyszenie S.H.E. Boyen – sprzęt\nV-Boyen Giżycki Klub Motocyklowy\nStoisko Giżyckiego Klubu Modelarskiego\nStoisko Wyższej Szkoły Bezpieczeństwa\nStoisko Straży Pożarnej\nPrzejażdżki z WebMoto\nWizyta autora hitu „Moje Miasto Giżycko” (również z autem) \nMIEJSKA BAZA SPORTÓW WODNYCH \nZimowa przystań sportowo-rekreacyjna \n12:00 – 20:00 \nPrezentacja poduszkowca ratowniczego \nCentrum Koordynacji Ratownictwa Wodnego – pokaz i zasady działania \nNauka pierwszej pomocy \nSauna i przerębel dla morsów \nOgnisko\, kiełbaski\, barszcz\, gofry \nŚlizgawka dla najmłodszych \nMinibojery i iceboardy – szkolenie i loty \nNarty biegowe dla początkujących \nZimowe SPA: herbata\, leżaki\, ciepłe koce \n11:30 Wspólne morsowanie z Giżyckim Klubem Morsów „Zimny Ptak”\nPlaża Miejska\nWspólne wejście do wody o godzinie 12:00 \nGIŻYCKIE CENTRUM KULTURY \nScena artystyczna GCK \n16:00 – 21:00 \n16:00 – 16:30 | Pokazy taneczne \nTaniec współczesny – Fantazja Mini \nHip-Hop – Harmiderki \nTaniec współczesny – solistka Dalia \nHip-Hop Solo – Szymon Infinity \nSkywave \nDuet Ania & Maja Infinity \nStreet Souls \nGrupa Infinity \nGrupa Wonder \n16:30 – 16:45 | Licytacja WOŚP \n16:45 – 17:15 | Pokaz taneczny – Szkoła Tańca FLESZ \n17:20 – 17:35 | Pokaz taneczny – UKS Czar Par \n17:40 – 17:55 | Blok artystyczno-licytacyjny \nZespół Pląs przy GUTW – Walc „Delilah” \nWesołe Kowbojki + niespodzianka \nLicytacje WOŚP \n– PRZERWA TECHNICZNA – \n20:00 | Koncert zespołu VEGOBORK\n21:00 | Laserowe Światełko Do Nieba \nPLAC IM. MARSZ. JÓZEFA PIŁSUDSKIEGO \nWixa na placu – Impreza z DJ \n21:00 – 24:00 \nDJ na żywo\, lodowisko pod gwiazdami i plenerowa impreza pełna energii!
URL:https://kursnagizycko.pl/kalendarz-wydarzen/34-final-wielkiej-orkiestry-swiatecznej-pomocy/
LOCATION:Giżycko\, Giżycko\, warmińsko-mazurskie\, 11-500\, Poland
CATEGORIES:wydarzenia
END:VEVENT
END:VCALENDAR