BEGIN:VCALENDAR
VERSION:2.0
PRODID:-//Kurs na Giżycko - ECPv6.1.3//NONSGML v1.0//EN
CALSCALE:GREGORIAN
METHOD:PUBLISH
X-WR-CALNAME:Kurs na Giżycko
X-ORIGINAL-URL:https://kursnagizycko.pl
X-WR-CALDESC:Events for Kurs na Giżycko
REFRESH-INTERVAL;VALUE=DURATION:PT1H
X-Robots-Tag:noindex
X-PUBLISHED-TTL:PT1H
BEGIN:VTIMEZONE
TZID:Europe/Warsaw
BEGIN:DAYLIGHT
TZOFFSETFROM:+0100
TZOFFSETTO:+0200
TZNAME:CEST
DTSTART:20260329T010000
END:DAYLIGHT
BEGIN:STANDARD
TZOFFSETFROM:+0200
TZOFFSETTO:+0100
TZNAME:CET
DTSTART:20261025T010000
END:STANDARD
END:VTIMEZONE
BEGIN:VEVENT
DTSTART;TZID=Europe/Warsaw:20260210T170000
DTEND;TZID=Europe/Warsaw:20260210T170000
DTSTAMP:20260424T210440
CREATED:20260129T122049Z
LAST-MODIFIED:20260129T122049Z
UID:8298-1770742800-1770742800@kursnagizycko.pl
SUMMARY:Cztery pory roku z literaturą | Waldemar Mierzwa
DESCRIPTION:📚 Cztery pory roku z literaturą 📚\nSerdecznie zapraszamy na spotkanie autorskie z Waldemarem Mierzwą – regionalistą\, wydawcą i autorem książki\n📖 „Dawne i nowe Mazury w 250 ilustrowanych opowieściach”.\nTo wyjątkowa okazja\, by posłuchać fascynujących historii o Mazurach – tych dawnych i współczesnych – opowiedzianych przez znawcę regionu.\n🗓 10 lutego 2026 r. (wtorek)\n⏰ godz. 17.00\n📍 Giżyckie Archiwum Cyfrowe\nul. Warszawska 17\, Giżycko\n🎟 Wstęp wolny\nZapraszamy wszystkich miłośników literatury\, historii i Mazur!\nDo zobaczenia 👋📖
URL:https://kursnagizycko.pl/kalendarz-wydarzen/cztery-pory-roku-z-literatura-waldemar-mierzwa/
LOCATION:Giżyckie Archiwum Cyfrowe\, ul. Warszawska 17\, Giżycko\, 11-500\, Poland
CATEGORIES:wydarzenia
END:VEVENT
END:VCALENDAR