BEGIN:VCALENDAR
VERSION:2.0
PRODID:-//Kurs na Giżycko - ECPv6.1.3//NONSGML v1.0//EN
CALSCALE:GREGORIAN
METHOD:PUBLISH
X-WR-CALNAME:Kurs na Giżycko
X-ORIGINAL-URL:https://kursnagizycko.pl
X-WR-CALDESC:Events for Kurs na Giżycko
REFRESH-INTERVAL;VALUE=DURATION:PT1H
X-Robots-Tag:noindex
X-PUBLISHED-TTL:PT1H
BEGIN:VTIMEZONE
TZID:Europe/Warsaw
BEGIN:DAYLIGHT
TZOFFSETFROM:+0100
TZOFFSETTO:+0200
TZNAME:CEST
DTSTART:20260329T010000
END:DAYLIGHT
BEGIN:STANDARD
TZOFFSETFROM:+0200
TZOFFSETTO:+0100
TZNAME:CET
DTSTART:20261025T010000
END:STANDARD
END:VTIMEZONE
BEGIN:VEVENT
DTSTART;VALUE=DATE:20260605
DTEND;VALUE=DATE:20260606
DTSTAMP:20260424T180136
CREATED:20260330T085936Z
LAST-MODIFIED:20260330T085936Z
UID:9009-1780617600-1780703999@kursnagizycko.pl
SUMMARY:Dance ma Sens 3
DESCRIPTION:DANCE MA SENS 3 \n5 czerwca\nTwierdza Boyen Giżycko
URL:https://kursnagizycko.pl/kalendarz-wydarzen/dance-ma-sens-3/
LOCATION:Twierdza Boyen\, Turystyczna 1\, Giżycko\, warmińsko-mazurskie\, 11-500\, Poland
CATEGORIES:wydarzenia
ATTACH;FMTTYPE=image/png:https://kursnagizycko.pl/wp-content/uploads/2026/03/dance-ma-sens.png
END:VEVENT
END:VCALENDAR