BEGIN:VCALENDAR
VERSION:2.0
PRODID:-//Kurs na Giżycko - ECPv6.1.3//NONSGML v1.0//EN
CALSCALE:GREGORIAN
METHOD:PUBLISH
X-WR-CALNAME:Kurs na Giżycko
X-ORIGINAL-URL:https://kursnagizycko.pl
X-WR-CALDESC:Events for Kurs na Giżycko
REFRESH-INTERVAL;VALUE=DURATION:PT1H
X-Robots-Tag:noindex
X-PUBLISHED-TTL:PT1H
BEGIN:VTIMEZONE
TZID:Europe/Warsaw
BEGIN:DAYLIGHT
TZOFFSETFROM:+0100
TZOFFSETTO:+0200
TZNAME:CEST
DTSTART:20260329T010000
END:DAYLIGHT
BEGIN:STANDARD
TZOFFSETFROM:+0200
TZOFFSETTO:+0100
TZNAME:CET
DTSTART:20261025T010000
END:STANDARD
END:VTIMEZONE
BEGIN:VEVENT
DTSTART;VALUE=DATE:20260601
DTEND;VALUE=DATE:20260602
DTSTAMP:20260424T180245
CREATED:20260330T083856Z
LAST-MODIFIED:20260330T083935Z
UID:9005-1780272000-1780358399@kursnagizycko.pl
SUMMARY:Dzień Dziecka w Twierdzy Boyen
DESCRIPTION:Serdecznie zapraszamy wszystkie dzieci wraz z rodzinami na wyjątkowe obchody Dnia Dziecka w Twierdza Boyen! \nTo będzie dzień pełen radości\, zabawy i niezapomnianych atrakcji w niezwykłej historycznej scenerii. Nie zabraknie uśmiechu\, dobrej energii i wspólnej zabawy dla całych rodzin! \nZapraszamy do wspólnego świętowania — do zobaczenia w Twierdzy Boyen!
URL:https://kursnagizycko.pl/kalendarz-wydarzen/dzien-dziecka-w-twierdzy-boyen/
LOCATION:Twierdza Boyen\, Turystyczna 1\, Giżycko\, warmińsko-mazurskie\, 11-500\, Poland
CATEGORIES:wydarzenia
ATTACH;FMTTYPE=image/jpeg:https://kursnagizycko.pl/wp-content/uploads/2026/03/gck-dzien-dziecka.jpg
END:VEVENT
END:VCALENDAR