BEGIN:VCALENDAR
VERSION:2.0
PRODID:-//Kurs na Giżycko - ECPv6.1.3//NONSGML v1.0//EN
CALSCALE:GREGORIAN
METHOD:PUBLISH
X-WR-CALNAME:Kurs na Giżycko
X-ORIGINAL-URL:https://kursnagizycko.pl
X-WR-CALDESC:Events for Kurs na Giżycko
REFRESH-INTERVAL;VALUE=DURATION:PT1H
X-Robots-Tag:noindex
X-PUBLISHED-TTL:PT1H
BEGIN:VTIMEZONE
TZID:Europe/Warsaw
BEGIN:DAYLIGHT
TZOFFSETFROM:+0100
TZOFFSETTO:+0200
TZNAME:CEST
DTSTART:20260329T010000
END:DAYLIGHT
BEGIN:STANDARD
TZOFFSETFROM:+0200
TZOFFSETTO:+0100
TZNAME:CET
DTSTART:20261025T010000
END:STANDARD
END:VTIMEZONE
BEGIN:VEVENT
DTSTART;TZID=Europe/Warsaw:20260606T170000
DTEND;TZID=Europe/Warsaw:20260606T170000
DTSTAMP:20260424T174255
CREATED:20260316T094922Z
LAST-MODIFIED:20260316T094922Z
UID:8666-1780765200-1780765200@kursnagizycko.pl
SUMMARY:Familijny Spektakl Iluzji | Prawdziwa Magia
DESCRIPTION:🎩 „𝐏𝐫𝐚𝐰𝐝𝐳𝐢𝐰𝐚 𝐌𝐚𝐠𝐢𝐚” – 𝐟𝐚𝐦𝐢𝐥𝐢𝐣𝐧𝐲 𝐬𝐩𝐞𝐤𝐭𝐚𝐤𝐥 𝐢𝐥𝐮𝐳𝐣𝐢 𝐳 𝐏𝐚𝐰ł𝐞𝐦 𝐊𝐰𝐢𝐞𝐭𝐧𝐢𝐞𝐦\n06 czerwca 2026 | godz. 17:00 | Giżyckie Centrum Kultury\nZapraszamy Was na wydarzenie\, które ł𝐚̨𝐜𝐳𝐲 𝐰𝐬𝐳𝐲𝐬𝐭𝐤𝐢𝐞 𝐩𝐨𝐤𝐨𝐥𝐞𝐧𝐢𝐚 – śmiechem\, emocjami i magią.\n✨ 𝟕𝟎 𝐦𝐢𝐧𝐮𝐭\, 𝐤𝐭𝐨́𝐫𝐞 𝐳𝐚𝐜𝐳𝐚𝐫𝐮𝐣𝐚̨ 𝐖𝐚𝐬𝐳 𝐰𝐬𝐩𝐨́𝐥𝐧𝐲 𝐰𝐢𝐞𝐜𝐳𝐨́𝐫\n🎩 Na scenie – 𝐏𝐚𝐰𝐞ł 𝐊𝐰𝐢𝐞𝐜𝐢𝐞𝐧́\, 22-letni artysta i iluzjonista z ponad 12-letnim doświadczeniem\, który oczarował publiczność na całym świecie – od Ukrainy\, przez Brukselę\, aż po Włochy. Występował na scenach takich jak katowicki Spodek\, współtworzył spektakl „Empuzjon” Olgi Tokarczuk w Teatrze Śląskim oraz był uczestnikiem programu „Mam Talent”. Jego pokazy to połączenie spektakularnych trików z eleganckim humorem\, tworzące atmosferę\, jakiej nie da się zapomnieć.\n𝐂𝐨 𝐜𝐳𝐞𝐤𝐚 𝐧𝐚 𝐖𝐚𝐬𝐳𝐚̨ 𝐫𝐨𝐝𝐳𝐢𝐧𝐞̨? 👇\n🌟 𝐌𝐚𝐠𝐢𝐜𝐳𝐧𝐞 𝐞𝐟𝐞𝐤𝐭𝐲\nLewitacje\, zniknięcia i finał\, który zapiera dech w piersiach. Iluzje\, które wywołują śmiech u dzieci i zdumienie u dorosłych.\n🤣 𝐑𝐚𝐝𝐨𝐬́𝐜́ 𝐢 𝐡𝐮𝐦𝐨𝐫 𝐝𝐥𝐚 𝐰𝐬𝐳𝐲𝐬𝐭𝐤𝐢𝐜𝐡 𝐩𝐨𝐤𝐨𝐥𝐞𝐧́\nInteraktywna zabawa z widzami i komediowe momenty\, które rozbawią całą salę – niezależnie od wieku.\n🎶 𝐒́𝐰𝐢𝐚𝐭ł𝐨. 𝐌𝐮𝐳𝐲𝐤𝐚. 𝐌𝐚𝐠𝐢𝐚.\nZjawiskowa oprawa wizualna i dźwiękowa przeniesie Was w świat\, gdzie wszystko może się zdarzyć.\n💫 𝐖𝐳𝐫𝐮𝐬𝐳𝐞𝐧𝐢𝐞 𝐢 𝐰𝐬𝐩𝐨𝐦𝐧𝐢𝐞𝐧𝐢𝐚\nTo nie tylko pokaz – to emocjonalna podróż\, z której wrócicie jako zespół – 𝐫𝐨𝐳𝐞𝐬́𝐦𝐢𝐚𝐧𝐚\, 𝐳𝐚𝐬𝐤𝐨𝐜𝐳𝐨𝐧𝐚 𝐢 𝐳𝐣𝐞𝐝𝐧𝐨𝐜𝐳𝐨𝐧𝐚 𝐫𝐨𝐝𝐳𝐢𝐧𝐚.\n🎟️ 𝐁𝐢𝐥𝐞𝐭𝐲 𝐣𝐮𝐳̇ 𝐰 𝐬𝐩𝐫𝐳𝐞𝐝𝐚𝐳̇𝐲!\n➡️ Tylko od 45 zł\n🎫 www.iluzjonistapawelkwiecien.com/gizycko\n📍 Stacjonarnie godzinę przed wydarzeniem\n𝐓𝐨 𝐧𝐢𝐞 𝐣𝐞𝐬𝐭 𝐳𝐰𝐲𝐤ł𝐲 𝐬𝐩𝐞𝐤𝐭𝐚𝐤𝐥.\nTo spotkanie z prawdziwą magią\, której się nie ogląda – 𝐣𝐚̨ 𝐬𝐢𝐞̨ 𝐩𝐫𝐳𝐞𝐳̇𝐲𝐰𝐚. 𝐑𝐚𝐳𝐞𝐦.\nWażne informacje:�• Epilepsja: spektakl zawiera efekty świetlne (migotanie\, błyski)\, które mogą być ryzykowne dla osób cierpiących na epilepsję.�• Minimalny wiek: 7 lat – młodsze dzieci mogą nie zrozumieć skomplikowanych iluzji lub odczuwać niepokój wobec efektów specjalnych.�• Bezpieczeństwo: sztuczki prezentowane przez Pawła Kwietnia nie mogą być naśladowane w domu – mogą być niebezpieczne bez profesjonalnego przygotowania.
URL:https://kursnagizycko.pl/kalendarz-wydarzen/familijny-spektakl-iluzji-prawdziwa-magia/
LOCATION:Giżyckie Centrum Kultury\, Konarskiego 8\, Giżycko\, warmińsko-mazurskie\, 11-500\, Poland
CATEGORIES:wydarzenia
ATTACH;FMTTYPE=image/jpeg:https://kursnagizycko.pl/wp-content/uploads/2023/03/imprezy-main-www.jpg
END:VEVENT
END:VCALENDAR