BEGIN:VCALENDAR
VERSION:2.0
PRODID:-//Kurs na Giżycko - ECPv6.1.3//NONSGML v1.0//EN
CALSCALE:GREGORIAN
METHOD:PUBLISH
X-WR-CALNAME:Kurs na Giżycko
X-ORIGINAL-URL:https://kursnagizycko.pl
X-WR-CALDESC:Events for Kurs na Giżycko
REFRESH-INTERVAL;VALUE=DURATION:PT1H
X-Robots-Tag:noindex
X-PUBLISHED-TTL:PT1H
BEGIN:VTIMEZONE
TZID:Europe/Warsaw
BEGIN:DAYLIGHT
TZOFFSETFROM:+0100
TZOFFSETTO:+0200
TZNAME:CEST
DTSTART:20260329T010000
END:DAYLIGHT
BEGIN:STANDARD
TZOFFSETFROM:+0200
TZOFFSETTO:+0100
TZNAME:CET
DTSTART:20261025T010000
END:STANDARD
END:VTIMEZONE
BEGIN:VEVENT
DTSTART;VALUE=DATE:20260807
DTEND;VALUE=DATE:20260810
DTSTAMP:20260424T174734
CREATED:20260205T085942Z
LAST-MODIFIED:20260205T085942Z
UID:8334-1786060800-1786319999@kursnagizycko.pl
SUMMARY:Festiwal Muzyczny "Reaktor"
DESCRIPTION:REAKTOR to nowy festiwal\, który rozgrzeje Giżycko w sierpniu! Przez trzy dni miasto zamieni się w przestrzeń pełną muzyki\, emocji i dobrej zabawy – dla zespołów\, fanów rocka i najmłodszych uczestników. \n📅 7 sierpnia – Konkurs dla zespołów\n📍 Plaża Miejska\nZagraj o nagrodę pieniężną oraz szansę występu drugiego dnia na dużej scenie!\nJuż wkrótce ogłosimy pulę nagród oraz rozpoczniemy nabór zgłoszeń. \n📅 8 sierpnia – Koncerty główne\n📍 Amfiteatr Twierdzy Boyen\nWieczór pełen rockowych brzmień! Na scenie pojawią się gwiazdy festiwalu\, zwycięzcy konkursu z dnia poprzedniego oraz mocne gitarowe granie.\nLINE-UP:\nArtyści:\n19:00 – zwycięzca konkursu dnia poprzedniego\n20:00 – Artysta zostanie ogłoszony wkrótce\n21:00 – Artysta zostanie ogłoszony wkrótce\n22:30 – Artysta zostanie ogłoszony wkrótce\n00:00 – Afromental – to jeden z najbardziej charakterystycznych polskich zespołów ostatnich dwóch dekad. Powstały w 2004 roku w Olsztynie\, od początku łączą rockową energię z hip-hopowym groove’em i nowoczesnym brzmieniem. Na swoim koncie mają złote płyty\, prestiżowe nagrody (m.in. MTV EMA\, Eska Music Awards\, VIVA Comet) oraz cztery albumy studyjne\, które ugruntowały ich pozycję na polskiej scenie muzycznej.\nSzerokiej publiczności Afromental znany jest również dzięki programowi The Voice of Poland\, gdzie Tomasz „Tomson” Lach i Aleksander „Baron” Milwiw-Baron od lat pełnią rolę trenerów. W 2024 roku zespół świętował 20-lecie działalności jubileuszową trasą koncertową\, prezentując nowe aranżacje swoich największych hitów.\nKoncert Afromental to gwarancja potężnej dawki energii\, charyzmatycznego kontaktu z publicznością i muzycznej mieszanki\, która porywa od pierwszych dźwięków. \nCeny biletów:\n150 zł – cena regularna\n120 zł – cena z GKM\n📅 9 sierpnia – REAKTOR-ek\n📍 Plaża Miejska\nSpecjalna odsłona festiwalu dla najmłodszych – koncert dla dzieci w letniej\, plażowej atmosferze.\n🎸 REAKTOR to muzyka\, pasja i energia – dołącz do nas i poczuj moc festiwalu!\n👉 Wkrótce podamy line-up\, ogłosimy pulę nagród i rozpoczniemy zbieranie zgłoszeń do konkursu.
URL:https://kursnagizycko.pl/kalendarz-wydarzen/festiwal-muzyczny-reaktor/
LOCATION:Giżycko\, Giżycko\, warmińsko-mazurskie\, 11-500\, Poland
CATEGORIES:wydarzenia
ATTACH;FMTTYPE=image/jpeg:https://kursnagizycko.pl/wp-content/uploads/2026/02/reaktor.jpg
END:VEVENT
END:VCALENDAR