BEGIN:VCALENDAR
VERSION:2.0
PRODID:-//Kurs na Giżycko - ECPv6.1.3//NONSGML v1.0//EN
CALSCALE:GREGORIAN
METHOD:PUBLISH
X-WR-CALNAME:Kurs na Giżycko
X-ORIGINAL-URL:https://kursnagizycko.pl
X-WR-CALDESC:Events for Kurs na Giżycko
REFRESH-INTERVAL;VALUE=DURATION:PT1H
X-Robots-Tag:noindex
X-PUBLISHED-TTL:PT1H
BEGIN:VTIMEZONE
TZID:Europe/Warsaw
BEGIN:DAYLIGHT
TZOFFSETFROM:+0100
TZOFFSETTO:+0200
TZNAME:CEST
DTSTART:20260329T010000
END:DAYLIGHT
BEGIN:STANDARD
TZOFFSETFROM:+0200
TZOFFSETTO:+0100
TZNAME:CET
DTSTART:20261025T010000
END:STANDARD
END:VTIMEZONE
BEGIN:VEVENT
DTSTART;TZID=Europe/Warsaw:20260124T100000
DTEND;TZID=Europe/Warsaw:20260124T100000
DTSTAMP:20260424T212911
CREATED:20260116T123147Z
LAST-MODIFIED:20260116T123147Z
UID:8242-1769248800-1769248800@kursnagizycko.pl
SUMMARY:III Zimowy Atomówkowy Turniej Piłki Siatkowej Kobiet
DESCRIPTION:Gmina Giżycko zaprasza na III Zimowy Atomówkowy Turniej Piłki Siatkowej Kobiet
URL:https://kursnagizycko.pl/kalendarz-wydarzen/iii-zimowy-atomowkowy-turniej-pilki-siatkowej-kobiet/
LOCATION:hala sportowa Zespołu Szkół Kształtowania Środowiska i Agrobiznesu\, ul. Kościuszki 23\, Giżycko\, 11-500\, Poland
CATEGORIES:wydarzenia
END:VEVENT
END:VCALENDAR