BEGIN:VCALENDAR
VERSION:2.0
PRODID:-//Kurs na Giżycko - ECPv6.1.3//NONSGML v1.0//EN
CALSCALE:GREGORIAN
METHOD:PUBLISH
X-WR-CALNAME:Kurs na Giżycko
X-ORIGINAL-URL:https://kursnagizycko.pl
X-WR-CALDESC:Events for Kurs na Giżycko
REFRESH-INTERVAL;VALUE=DURATION:PT1H
X-Robots-Tag:noindex
X-PUBLISHED-TTL:PT1H
BEGIN:VTIMEZONE
TZID:Europe/Warsaw
BEGIN:DAYLIGHT
TZOFFSETFROM:+0100
TZOFFSETTO:+0200
TZNAME:CEST
DTSTART:20260329T010000
END:DAYLIGHT
BEGIN:STANDARD
TZOFFSETFROM:+0200
TZOFFSETTO:+0100
TZNAME:CET
DTSTART:20261025T010000
END:STANDARD
END:VTIMEZONE
BEGIN:VEVENT
DTSTART;TZID=Europe/Warsaw:20260411T190000
DTEND;TZID=Europe/Warsaw:20260411T190000
DTSTAMP:20260424T194522
CREATED:20260409T105844Z
LAST-MODIFIED:20260409T105844Z
UID:9049-1775934000-1775934000@kursnagizycko.pl
SUMMARY:Koncert - Bogdan Tomaszewski
DESCRIPTION:Bilet: Wrzut do kapelusza dla artysty\nData: 11.04\nGodzina rozpoczęcia: 19:00 / warto być wcześniej i zająć sobie stolik\nOpis:\nBogdan Tomaszewski to ełcki wokalista i gitarzysta\, od lat obecny na lokalnej scenie muzycznej. Jego koncerty to połączenie klimatycznego grania na żywo\, autentycznych emocji i bezpośredniego kontaktu z publicznością – idealne na wieczór\, który pozwala zwolnić i naprawdę wsłuchać się w muzykę.\nJest laureatem Ogólnopolskiego Festiwalu Kultury Młodzieży Szkolnej w Kielcach (1982)\, gdzie wraz z zespołem A’propos wylansował utwór „Lato z komarami”. Ma na swoim koncie liczne nagrody i wyróżnienia\, szczególnie w nurcie piosenki turystycznej. Dwukrotnie wystąpił w programie „Szansa na Sukces” – w 2009 roku z Anią Dąbrowską oraz w 2021 z Wojciechem Gąssowskim.\nObecnie jest również członkiem zespołu Jazzury przy Ełckim Centrum Kultury. Jego występy to gwarancja nastroju\, który zostaje z słuchaczem na długo po ostatnim dźwięku.\nKoncert odbędzie się w kawiarni pod zachodzącym słońcem\, w wieczornym\, pubowo-klubowym klimacie.
URL:https://kursnagizycko.pl/kalendarz-wydarzen/koncert-bogdan-tomaszewski/
LOCATION:Pod Zachodzącym Słońcem\, Pasaż Portowy 1\, Giżycko\, warmińsko-mazurskie\, 11-500\, Poland
CATEGORIES:wydarzenia
END:VEVENT
END:VCALENDAR