BEGIN:VCALENDAR
VERSION:2.0
PRODID:-//Kurs na Giżycko - ECPv6.1.3//NONSGML v1.0//EN
CALSCALE:GREGORIAN
METHOD:PUBLISH
X-WR-CALNAME:Kurs na Giżycko
X-ORIGINAL-URL:https://kursnagizycko.pl
X-WR-CALDESC:Events for Kurs na Giżycko
REFRESH-INTERVAL;VALUE=DURATION:PT1H
X-Robots-Tag:noindex
X-PUBLISHED-TTL:PT1H
BEGIN:VTIMEZONE
TZID:Europe/Warsaw
BEGIN:DAYLIGHT
TZOFFSETFROM:+0100
TZOFFSETTO:+0200
TZNAME:CEST
DTSTART:20260329T010000
END:DAYLIGHT
BEGIN:STANDARD
TZOFFSETFROM:+0200
TZOFFSETTO:+0100
TZNAME:CET
DTSTART:20261025T010000
END:STANDARD
END:VTIMEZONE
BEGIN:VEVENT
DTSTART;TZID=Europe/Warsaw:20260501T203000
DTEND;TZID=Europe/Warsaw:20260501T203000
DTSTAMP:20260424T182541
CREATED:20260320T113504Z
LAST-MODIFIED:20260320T113504Z
UID:8793-1777667400-1777667400@kursnagizycko.pl
SUMMARY:Koncert - Bohika
DESCRIPTION:Piotr Karpienia to mieszkający w Ełku piosenkarz i gitarzysta. W 2003 roku został laureatem konkursu „Przebojem na Antenę” a w 2008 roku był finalistą irlandzkiego talent show „You’re a Star”\, aby w 2011 roku zostać laureatem czwartej edycji talent show „Mam talent!”. W 2012 roku wraz z Witoldem Cisło wydał album zatytułowany „Mój świat „. W 2015 roku jego singiel „Partyzant” był jednym z letnich przebojów radia RMF FM. W 2017 roku z zespołem „Karoosela” wystąpił na trasie Żywiec Męskie Granie. Oprócz tego bierze udział w kilku projektach muzycznych m. in. Bohika\, z którym koncertuje w kraju i za granicą. Doskonała zabawa gwarantowana.
URL:https://kursnagizycko.pl/kalendarz-wydarzen/koncert-bohika-2/
LOCATION:Tawerna Rozbitek\, ul. Niegocińska 5\, Wilkasy\, warmińsko-mazurskie\, 11-500\, Poland
CATEGORIES:wydarzenia
ATTACH;FMTTYPE=image/jpeg:https://kursnagizycko.pl/wp-content/uploads/2026/03/bohika.jpg
END:VEVENT
END:VCALENDAR