BEGIN:VCALENDAR
VERSION:2.0
PRODID:-//Kurs na Giżycko - ECPv6.1.3//NONSGML v1.0//EN
CALSCALE:GREGORIAN
METHOD:PUBLISH
X-WR-CALNAME:Kurs na Giżycko
X-ORIGINAL-URL:https://kursnagizycko.pl
X-WR-CALDESC:Events for Kurs na Giżycko
REFRESH-INTERVAL;VALUE=DURATION:PT1H
X-Robots-Tag:noindex
X-PUBLISHED-TTL:PT1H
BEGIN:VTIMEZONE
TZID:Europe/Warsaw
BEGIN:DAYLIGHT
TZOFFSETFROM:+0100
TZOFFSETTO:+0200
TZNAME:CEST
DTSTART:20260329T010000
END:DAYLIGHT
BEGIN:STANDARD
TZOFFSETFROM:+0200
TZOFFSETTO:+0100
TZNAME:CET
DTSTART:20261025T010000
END:STANDARD
END:VTIMEZONE
BEGIN:VEVENT
DTSTART;TZID=Europe/Warsaw:20260704T200000
DTEND;TZID=Europe/Warsaw:20260704T200000
DTSTAMP:20260424T180059
CREATED:20260409T110345Z
LAST-MODIFIED:20260409T110345Z
UID:9056-1783195200-1783195200@kursnagizycko.pl
SUMMARY:Koncert - Cosmos
DESCRIPTION:Już czujesz letni klimat? -COSMOS I UTWÓR PIĘKNA PANI\, ALE PANI PACHNIE w zabytkowej Twierdzy!\n4 lipca 2026 roku Amfiteatr zamieni się w muzyczne centrum emocji! O godzinie 20:30 na scenie pojawi się zespół Cosmos\, który zabierze Was w wyjątkową podróż pełną energii\, dźwięków i niezapomnianych wrażeń.\nSpędź ciepły\, wakacyjny wieczór w niezwykłym miejscu – w otoczeniu historii\, natury i świetnej muzyki. Poczuj klimat letniego koncertu\, przyjdź ze znajomymi i daj się porwać rytmom Cosmos! 🎶🔥\nKoszt biletu: 50\,00 zł – przedsprzedaż\nPRZEDSPRZEDAŻ BILETÓW TRWA – KUP SWÓJ BILET JUŻ DZIŚ! Bilety dostępne online: biletyna.pl🔥
URL:https://kursnagizycko.pl/kalendarz-wydarzen/koncert-cosmos/
LOCATION:Twierdza Boyen\, Turystyczna 1\, Giżycko\, warmińsko-mazurskie\, 11-500\, Poland
CATEGORIES:wydarzenia
ATTACH;FMTTYPE=image/jpeg:https://kursnagizycko.pl/wp-content/uploads/2026/04/cosmos.jpg
END:VEVENT
END:VCALENDAR