BEGIN:VCALENDAR
VERSION:2.0
PRODID:-//Kurs na Giżycko - ECPv6.1.3//NONSGML v1.0//EN
CALSCALE:GREGORIAN
METHOD:PUBLISH
X-WR-CALNAME:Kurs na Giżycko
X-ORIGINAL-URL:https://kursnagizycko.pl
X-WR-CALDESC:Events for Kurs na Giżycko
REFRESH-INTERVAL;VALUE=DURATION:PT1H
X-Robots-Tag:noindex
X-PUBLISHED-TTL:PT1H
BEGIN:VTIMEZONE
TZID:Europe/Warsaw
BEGIN:DAYLIGHT
TZOFFSETFROM:+0100
TZOFFSETTO:+0200
TZNAME:CEST
DTSTART:20260329T010000
END:DAYLIGHT
BEGIN:STANDARD
TZOFFSETFROM:+0200
TZOFFSETTO:+0100
TZNAME:CET
DTSTART:20261025T010000
END:STANDARD
END:VTIMEZONE
BEGIN:VEVENT
DTSTART;TZID=Europe/Warsaw:20260710T200000
DTEND;TZID=Europe/Warsaw:20260710T200000
DTSTAMP:20260424T194609
CREATED:20260326T112556Z
LAST-MODIFIED:20260326T112556Z
UID:8946-1783713600-1783713600@kursnagizycko.pl
SUMMARY:Koncert - Huh Bosmana
DESCRIPTION:A HOJ!\nHUH Bosmana – Najlepsze szanty – na żywo.\nZapraszamy na koncerty na szlaku mazurskich jezior.\nNajlepsza zabawa tylko z nami.
URL:https://kursnagizycko.pl/kalendarz-wydarzen/koncert-huh-bosmana/
LOCATION:Tawerna Dezeta\, ul. Niegocińska 1\, Wilkasy\, warmińsko-mazurskie\, 11-500\, Poland
CATEGORIES:wydarzenia
ATTACH;FMTTYPE=image/jpeg:https://kursnagizycko.pl/wp-content/uploads/2026/03/huh-bosmana.jpg
END:VEVENT
END:VCALENDAR