BEGIN:VCALENDAR
VERSION:2.0
PRODID:-//Kurs na Giżycko - ECPv6.1.3//NONSGML v1.0//EN
CALSCALE:GREGORIAN
METHOD:PUBLISH
X-WR-CALNAME:Kurs na Giżycko
X-ORIGINAL-URL:https://kursnagizycko.pl
X-WR-CALDESC:Events for Kurs na Giżycko
REFRESH-INTERVAL;VALUE=DURATION:PT1H
X-Robots-Tag:noindex
X-PUBLISHED-TTL:PT1H
BEGIN:VTIMEZONE
TZID:Europe/Warsaw
BEGIN:DAYLIGHT
TZOFFSETFROM:+0100
TZOFFSETTO:+0200
TZNAME:CEST
DTSTART:20260329T010000
END:DAYLIGHT
BEGIN:STANDARD
TZOFFSETFROM:+0200
TZOFFSETTO:+0100
TZNAME:CET
DTSTART:20261025T010000
END:STANDARD
END:VTIMEZONE
BEGIN:VEVENT
DTSTART;TZID=Europe/Warsaw:20260502T203000
DTEND;TZID=Europe/Warsaw:20260502T203000
DTSTAMP:20260424T182930
CREATED:20260320T104438Z
LAST-MODIFIED:20260320T104438Z
UID:8779-1777753800-1777753800@kursnagizycko.pl
SUMMARY:Koncert - Korzuh
DESCRIPTION:KORZUH to coverowy zespół z Olsztyna. Powstał w 1999 roku. Na swoim koncie ma już ponad 1000 koncertów. Doskonale dobrany repertuar i autentyczność przekazu sprawiły\, że ten coverowy zespół szybko zyskał szerokie grono fanów. Grupa stała się ikoną dobrej zabawy rock n’ rolowej. W miłej atmosferze Tawerny Rozbitek są częstym gościem.
URL:https://kursnagizycko.pl/kalendarz-wydarzen/koncert-korzuh-2/
LOCATION:Tawerna Rozbitek\, ul. Niegocińska 5\, Wilkasy\, warmińsko-mazurskie\, 11-500\, Poland
CATEGORIES:wydarzenia
ATTACH;FMTTYPE=image/jpeg:https://kursnagizycko.pl/wp-content/uploads/2026/03/korzuh.jpg
END:VEVENT
END:VCALENDAR