BEGIN:VCALENDAR
VERSION:2.0
PRODID:-//Kurs na Giżycko - ECPv6.1.3//NONSGML v1.0//EN
CALSCALE:GREGORIAN
METHOD:PUBLISH
X-WR-CALNAME:Kurs na Giżycko
X-ORIGINAL-URL:https://kursnagizycko.pl
X-WR-CALDESC:Events for Kurs na Giżycko
REFRESH-INTERVAL;VALUE=DURATION:PT1H
X-Robots-Tag:noindex
X-PUBLISHED-TTL:PT1H
BEGIN:VTIMEZONE
TZID:Europe/Warsaw
BEGIN:DAYLIGHT
TZOFFSETFROM:+0100
TZOFFSETTO:+0200
TZNAME:CEST
DTSTART:20260329T010000
END:DAYLIGHT
BEGIN:STANDARD
TZOFFSETFROM:+0200
TZOFFSETTO:+0100
TZNAME:CET
DTSTART:20261025T010000
END:STANDARD
END:VTIMEZONE
BEGIN:VEVENT
DTSTART;TZID=Europe/Warsaw:20260418T190000
DTEND;TZID=Europe/Warsaw:20260418T190000
DTSTAMP:20260424T195911
CREATED:20260409T105654Z
LAST-MODIFIED:20260409T105654Z
UID:9046-1776538800-1776538800@kursnagizycko.pl
SUMMARY:Koncert - Kreatyna | blues&rock
DESCRIPTION:Bilet: Wrzut do kapelusza dla artysty\nData: 18.04\nGodzina rozpoczęcia: 19:00 / warto być wcześniej i zająć sobie stolik\nOpis:\nKreatyna to zespół\, który serwuje solidną dawkę energetycznego blues-rocka. W składzie: Monika Stankiewicz (wokal)\, Rafał Jędrzejowski (gitara akustyczna)\, Piotr Wagner (gitara elektryczna)\, Michał Kowalewski (gitara basowa) oraz Mateusz Stankiewicz (perkusja).\nIch brzmienie opiera się na mocnym rytmie\, wyrazistych gitarowych solówkach i emocjonalnym wokalu\, tworząc surowy\, autentyczny klimat koncertów na żywo. W repertuarze znajdą się zarówno znane klasyki\, jak i mniej oczywiste utwory\, podane w nieskrępowanym\, rockowym stylu.\nTo idealna propozycja dla wszystkich\, którzy lubią muzykę graną z serca – bez filtrów i kompromisów.\nKoncert odbędzie się w kawiarni pod zachodzącym słońcem\, w wieczornym\, pubowo-klubowym klimacie.
URL:https://kursnagizycko.pl/kalendarz-wydarzen/koncert-kreatyna-bluesrock/
LOCATION:Pod Zachodzącym Słońcem\, Pasaż Portowy 1\, Giżycko\, warmińsko-mazurskie\, 11-500\, Poland
CATEGORIES:wydarzenia
END:VEVENT
END:VCALENDAR