BEGIN:VCALENDAR
VERSION:2.0
PRODID:-//Kurs na Giżycko - ECPv6.1.3//NONSGML v1.0//EN
CALSCALE:GREGORIAN
METHOD:PUBLISH
X-WR-CALNAME:Kurs na Giżycko
X-ORIGINAL-URL:https://kursnagizycko.pl
X-WR-CALDESC:Events for Kurs na Giżycko
REFRESH-INTERVAL;VALUE=DURATION:PT1H
X-Robots-Tag:noindex
X-PUBLISHED-TTL:PT1H
BEGIN:VTIMEZONE
TZID:Europe/Warsaw
BEGIN:DAYLIGHT
TZOFFSETFROM:+0100
TZOFFSETTO:+0200
TZNAME:CEST
DTSTART:20260329T010000
END:DAYLIGHT
BEGIN:STANDARD
TZOFFSETFROM:+0200
TZOFFSETTO:+0100
TZNAME:CET
DTSTART:20261025T010000
END:STANDARD
END:VTIMEZONE
BEGIN:VEVENT
DTSTART;TZID=Europe/Warsaw:20260509T203000
DTEND;TZID=Europe/Warsaw:20260509T233000
DTSTAMP:20260424T181536
CREATED:20260326T095321Z
LAST-MODIFIED:20260326T095321Z
UID:8879-1778358600-1778369400@kursnagizycko.pl
SUMMARY:Koncert - KRiSU Bańka Band
DESCRIPTION:Krzysztof Bańka\, znany jako KRiSU\, to polski muzyk\, wokalista\, kompozytor i autor tekstów pochodzący z Dąbrowy Górniczej. Jego twórczość oscyluje wokół pop-rocka\, a w jego repertuarze znajdują się zarówno dynamiczne utwory\, jak i nastrojowe ballady poruszające tematy miłości i życia. Od sezonu 2025 występuje też z grupą przyjaciół\, tworząc energetyczny band.
URL:https://kursnagizycko.pl/kalendarz-wydarzen/koncert-krisu-banka-band/
LOCATION:Tawerna Rozbitek\, ul. Niegocińska 5\, Wilkasy\, warmińsko-mazurskie\, 11-500\, Poland
CATEGORIES:wydarzenia
ATTACH;FMTTYPE=image/jpeg:https://kursnagizycko.pl/wp-content/uploads/2026/03/krisu-banka.jpg
END:VEVENT
END:VCALENDAR