BEGIN:VCALENDAR
VERSION:2.0
PRODID:-//Kurs na Giżycko - ECPv6.1.3//NONSGML v1.0//EN
CALSCALE:GREGORIAN
METHOD:PUBLISH
X-WR-CALNAME:Kurs na Giżycko
X-ORIGINAL-URL:https://kursnagizycko.pl
X-WR-CALDESC:Events for Kurs na Giżycko
REFRESH-INTERVAL;VALUE=DURATION:PT1H
X-Robots-Tag:noindex
X-PUBLISHED-TTL:PT1H
BEGIN:VTIMEZONE
TZID:Europe/Warsaw
BEGIN:DAYLIGHT
TZOFFSETFROM:+0100
TZOFFSETTO:+0200
TZNAME:CEST
DTSTART:20260329T010000
END:DAYLIGHT
BEGIN:STANDARD
TZOFFSETFROM:+0200
TZOFFSETTO:+0100
TZNAME:CET
DTSTART:20261025T010000
END:STANDARD
END:VTIMEZONE
BEGIN:VEVENT
DTSTART;TZID=Europe/Warsaw:20260516T203000
DTEND;TZID=Europe/Warsaw:20260516T233000
DTSTAMP:20260424T180116
CREATED:20260324T100906Z
LAST-MODIFIED:20260324T100906Z
UID:8850-1778963400-1778974200@kursnagizycko.pl
SUMMARY:Koncert - Luka
DESCRIPTION:LUKA to nowy projekt muzyczny powstały po rozejściu się muzyków zespołu Martinz Band. Trójka z nich postanowiła założyć nowy zespół. Energia gwarantowana i dobra zabawa też. Sezon 2026 będzie ich sezonem debiutanckim\, choć wszyscy muzycy są bardzo doświadczeni..
URL:https://kursnagizycko.pl/kalendarz-wydarzen/koncert-luka-10/
LOCATION:Tawerna Rozbitek\, ul. Niegocińska 5\, Wilkasy\, warmińsko-mazurskie\, 11-500\, Poland
CATEGORIES:wydarzenia
ATTACH;FMTTYPE=image/jpeg:https://kursnagizycko.pl/wp-content/uploads/2026/03/LUKA-1.jpg
END:VEVENT
END:VCALENDAR