BEGIN:VCALENDAR
VERSION:2.0
PRODID:-//Kurs na Giżycko - ECPv6.1.3//NONSGML v1.0//EN
CALSCALE:GREGORIAN
METHOD:PUBLISH
X-WR-CALNAME:Kurs na Giżycko
X-ORIGINAL-URL:https://kursnagizycko.pl
X-WR-CALDESC:Events for Kurs na Giżycko
REFRESH-INTERVAL;VALUE=DURATION:PT1H
X-Robots-Tag:noindex
X-PUBLISHED-TTL:PT1H
BEGIN:VTIMEZONE
TZID:Europe/Warsaw
BEGIN:DAYLIGHT
TZOFFSETFROM:+0100
TZOFFSETTO:+0200
TZNAME:CEST
DTSTART:20260329T010000
END:DAYLIGHT
BEGIN:STANDARD
TZOFFSETFROM:+0200
TZOFFSETTO:+0100
TZNAME:CET
DTSTART:20261025T010000
END:STANDARD
END:VTIMEZONE
BEGIN:VEVENT
DTSTART;TZID=Europe/Warsaw:20260519T203000
DTEND;TZID=Europe/Warsaw:20260519T233000
DTSTAMP:20260424T181449
CREATED:20260326T101931Z
LAST-MODIFIED:20260326T101931Z
UID:8890-1779222600-1779233400@kursnagizycko.pl
SUMMARY:Koncert - Marcin Kaszubat
DESCRIPTION:Marcin Kaszubat pochodzi z Górowa Iławieckiego w woj. warmińsko – mazurskim. Muzyką zajmuje się od dawna\, chociaż jak sam twierdzi\, wcześniej traktował ją jak hobby\, niczym odskocznię od codziennych obowiązków. Na swoim koncie ma wiele koncertów w całej Polsce oraz wygrane konkursy muzyczne\, jest laureatem jednej z edycji audycji radiowej „łowisko”. Z racji grania na wielu instrumentach\, często nazywamy człowiekiem orkiestrą. W zgodnej opinii wielu osób\, słuchanie jego twórczości to emocjonalny masaż duszy…
URL:https://kursnagizycko.pl/kalendarz-wydarzen/koncert-marcin-kaszubat-6/
LOCATION:Tawerna Rozbitek\, ul. Niegocińska 5\, Wilkasy\, warmińsko-mazurskie\, 11-500\, Poland
CATEGORIES:wydarzenia
ATTACH;FMTTYPE=image/jpeg:https://kursnagizycko.pl/wp-content/uploads/2026/03/marcin-kaszubat.jpg
END:VEVENT
END:VCALENDAR