BEGIN:VCALENDAR
VERSION:2.0
PRODID:-//Kurs na Giżycko - ECPv6.1.3//NONSGML v1.0//EN
CALSCALE:GREGORIAN
METHOD:PUBLISH
X-WR-CALNAME:Kurs na Giżycko
X-ORIGINAL-URL:https://kursnagizycko.pl
X-WR-CALDESC:Events for Kurs na Giżycko
REFRESH-INTERVAL;VALUE=DURATION:PT1H
X-Robots-Tag:noindex
X-PUBLISHED-TTL:PT1H
BEGIN:VTIMEZONE
TZID:Europe/Warsaw
BEGIN:DAYLIGHT
TZOFFSETFROM:+0100
TZOFFSETTO:+0200
TZNAME:CEST
DTSTART:20260329T010000
END:DAYLIGHT
BEGIN:STANDARD
TZOFFSETFROM:+0200
TZOFFSETTO:+0100
TZNAME:CET
DTSTART:20261025T010000
END:STANDARD
END:VTIMEZONE
BEGIN:VEVENT
DTSTART;TZID=Europe/Warsaw:20260606T200000
DTEND;TZID=Europe/Warsaw:20260606T200000
DTSTAMP:20260424T192433
CREATED:20260326T105628Z
LAST-MODIFIED:20260326T105628Z
UID:8933-1780776000-1780776000@kursnagizycko.pl
SUMMARY:Koncert - Martinz Band akustycznie
DESCRIPTION:Martinz Band – scena\, emocje i energia. Ponad 15 lat doświadczenia\, pasji i profesjonalnego podejściu do muzyki. Nasz repertuar\, dopracowane aranżacje i charakterystyczne brzmienie gwarantują koncerty pełne dobrej energii i niezapomnianych wrażeń.
URL:https://kursnagizycko.pl/kalendarz-wydarzen/koncert-martinz-band-akustycznie/
LOCATION:Tawerna Dezeta\, ul. Niegocińska 1\, Wilkasy\, warmińsko-mazurskie\, 11-500\, Poland
CATEGORIES:wydarzenia
ATTACH;FMTTYPE=image/png:https://kursnagizycko.pl/wp-content/uploads/2026/03/martinz-band.png
END:VEVENT
END:VCALENDAR