BEGIN:VCALENDAR
VERSION:2.0
PRODID:-//Kurs na Giżycko - ECPv6.1.3//NONSGML v1.0//EN
CALSCALE:GREGORIAN
METHOD:PUBLISH
X-WR-CALNAME:Kurs na Giżycko
X-ORIGINAL-URL:https://kursnagizycko.pl
X-WR-CALDESC:Events for Kurs na Giżycko
REFRESH-INTERVAL;VALUE=DURATION:PT1H
X-Robots-Tag:noindex
X-PUBLISHED-TTL:PT1H
BEGIN:VTIMEZONE
TZID:Europe/Warsaw
BEGIN:DAYLIGHT
TZOFFSETFROM:+0100
TZOFFSETTO:+0200
TZNAME:CEST
DTSTART:20260329T010000
END:DAYLIGHT
BEGIN:STANDARD
TZOFFSETFROM:+0200
TZOFFSETTO:+0100
TZNAME:CET
DTSTART:20261025T010000
END:STANDARD
END:VTIMEZONE
BEGIN:VEVENT
DTSTART;TZID=Europe/Warsaw:20260501T200000
DTEND;TZID=Europe/Warsaw:20260501T200000
DTSTAMP:20260424T182930
CREATED:20260326T102929Z
LAST-MODIFIED:20260326T102929Z
UID:8900-1777665600-1777665600@kursnagizycko.pl
SUMMARY:Koncert - OKAW Sztorm
DESCRIPTION:Okaw Sztorm to formacja\, która z wyjątkową swobodą żegluje pomiędzy gatunkami\, łącząc w swojej muzyce bluesa\, rocka\, jazz oraz elementy muzyki improwizowanej.\nZespół słynie z energetycznych\, pełnych pasji koncertów\, podczas których tworzy z publicznością wyjątkową więź. Na scenie Okaw Sztorm to żywioł: pulsująca sekcja rytmiczna\, charyzmatyczne gitary i bogata przestrzeń dla improwizacji sprawiają\, że każda odsłona ich muzyki jest niepowtarzalna. Nie boją się eksperymentować\, łącząc klasyczne dźwięki z nowoczesnym podejściem do aranżacji.\nIch twórczość to nie tylko dynamiczne\, porywające utwory\, ale także nastrojowe\, refleksyjne kompozycje\, które zabierają słuchaczy w podróż pełną emocji i dźwiękowych krajobrazów. Okaw Sztorm potrafi zaskakiwać: raz wciąga w taneczny wir\, innym razem skłania do zadumy przy subtelnych\, jazzujących harmoniach.\nZespół nieustannie rozwija swoje brzmienie\, sięgając zarówno po autorskie kompozycje\, jak i inspiracje płynące z bogatej tradycji muzyki światowej. Ich koncerty to prawdziwe muzyczne spektakle\, doceniane zarówno przez fanów\, jak i krytyków za autentyczność i artystyczną odwagę.\nOkaw Sztorm to dowód na to\, że muzyka nie zna granic\, a pasja do tworzenia może być siłą napędową niekończącej się przygody z dźwiękiem.\nMusicie nas koniecznie odwiedzić\, dopłynąć\, zacumować\, przyjechać – WSTĘP WOLNY 🙂
URL:https://kursnagizycko.pl/kalendarz-wydarzen/koncert-okaw-sztorm-8/
LOCATION:Tawerna Dezeta\, ul. Niegocińska 1\, Wilkasy\, warmińsko-mazurskie\, 11-500\, Poland
CATEGORIES:wydarzenia
ATTACH;FMTTYPE=image/jpeg:https://kursnagizycko.pl/wp-content/uploads/2026/03/okaw-sztorm.jpg
END:VEVENT
END:VCALENDAR