BEGIN:VCALENDAR
VERSION:2.0
PRODID:-//Kurs na Giżycko - ECPv6.1.3//NONSGML v1.0//EN
CALSCALE:GREGORIAN
METHOD:PUBLISH
X-WR-CALNAME:Kurs na Giżycko
X-ORIGINAL-URL:https://kursnagizycko.pl
X-WR-CALDESC:Events for Kurs na Giżycko
REFRESH-INTERVAL;VALUE=DURATION:PT1H
X-Robots-Tag:noindex
X-PUBLISHED-TTL:PT1H
BEGIN:VTIMEZONE
TZID:Europe/Warsaw
BEGIN:DAYLIGHT
TZOFFSETFROM:+0100
TZOFFSETTO:+0200
TZNAME:CEST
DTSTART:20260329T010000
END:DAYLIGHT
BEGIN:STANDARD
TZOFFSETFROM:+0200
TZOFFSETTO:+0100
TZNAME:CET
DTSTART:20261025T010000
END:STANDARD
END:VTIMEZONE
BEGIN:VEVENT
DTSTART;TZID=Europe/Warsaw:20260730T203000
DTEND;TZID=Europe/Warsaw:20260730T203000
DTSTAMP:20260424T211532
CREATED:20260320T095554Z
LAST-MODIFIED:20260320T095554Z
UID:8727-1785443400-1785443400@kursnagizycko.pl
SUMMARY:Koncert - Reflinka z przyjaciółmi
DESCRIPTION:Zapraszamy na wyjątkowy koncert Agnieszki „Reflinki” Snopek – charyzmatycznej wokalistki i gitarzystki\, znanej z zespołu Zrefowani\, która z niezwykłą lekkością łączy klasyczne szanty z poezją śpiewaną.\nJej głos to prawdziwa podróż – raz pełen energii i morskiej przygody\, zachęcający do wspólnego śpiewania\, innym razem spokojny\, refleksyjny i idealnie wpisujący się w klimat mazurskiego wieczoru.\n🌊 Podczas koncertu Reflinka zabierze Was w świat opowieści o wodzie\, wietrze i wolności. W repertuarze znajdą się zarówno dobrze znane szanty\, jak i bardziej nastrojowe utwory z pogranicza poezji śpiewanej.\n🔥 To nie tylko koncert – to spotkanie ludzi\, wspólna energia i klimat\, który najlepiej smakuje nad wodą: przy ognisku\, na kei czy pod sceną.\n🎤 Często na scenie pojawiają się także muzyczni przyjaciele Reflinki\, tworząc niepowtarzalne\, spontaniczne muzyczne chwile.\n👉 Przyjdź i poczuj magię żeglarskiej muzyki na żywo – WSTĘP BEZPŁATNY 🙂
URL:https://kursnagizycko.pl/kalendarz-wydarzen/koncert-reflinka-z-przyjaciolmi/
LOCATION:Port Łabędzi Ostrów\, Piękna Góra\, Giżycko\, 11-500\, Poland
CATEGORIES:wydarzenia
ATTACH;FMTTYPE=image/jpeg:https://kursnagizycko.pl/wp-content/uploads/2026/03/reflinka.jpg
END:VEVENT
END:VCALENDAR