BEGIN:VCALENDAR
VERSION:2.0
PRODID:-//Kurs na Giżycko - ECPv6.1.3//NONSGML v1.0//EN
CALSCALE:GREGORIAN
METHOD:PUBLISH
X-WR-CALNAME:Kurs na Giżycko
X-ORIGINAL-URL:https://kursnagizycko.pl
X-WR-CALDESC:Events for Kurs na Giżycko
REFRESH-INTERVAL;VALUE=DURATION:PT1H
X-Robots-Tag:noindex
X-PUBLISHED-TTL:PT1H
BEGIN:VTIMEZONE
TZID:Europe/Warsaw
BEGIN:DAYLIGHT
TZOFFSETFROM:+0100
TZOFFSETTO:+0200
TZNAME:CEST
DTSTART:20260329T010000
END:DAYLIGHT
BEGIN:STANDARD
TZOFFSETFROM:+0200
TZOFFSETTO:+0100
TZNAME:CET
DTSTART:20261025T010000
END:STANDARD
END:VTIMEZONE
BEGIN:VEVENT
DTSTART;TZID=Europe/Warsaw:20260422T180000
DTEND;TZID=Europe/Warsaw:20260422T180000
DTSTAMP:20260424T181638
CREATED:20260420T104233Z
LAST-MODIFIED:20260420T104233Z
UID:9103-1776880800-1776880800@kursnagizycko.pl
SUMMARY:Koncert solistów\, orkiestry akordeonowej oraz Pawła Zagańczyka
DESCRIPTION:Zapraszamy na wyjątkowy koncert\, który będzie zwieńczeniem Giżyckich Spotkań Akordeonowych🥰\nWstęp wolny😊
URL:https://kursnagizycko.pl/kalendarz-wydarzen/koncert-solistow-orkiestry-akordeonowej-oraz-pawla-zaganczyka/
LOCATION:Państwowa Szkoła Muzyczna I st. w Giżycku\, ul. Kolejowa 22\, Giżycko\, warmińsko-mazurskie\, 11-500\, Poland
CATEGORIES:wydarzenia
ATTACH;FMTTYPE=image/jpeg:https://kursnagizycko.pl/wp-content/uploads/2026/04/psm.jpg
END:VEVENT
END:VCALENDAR