BEGIN:VCALENDAR
VERSION:2.0
PRODID:-//Kurs na Giżycko - ECPv6.1.3//NONSGML v1.0//EN
CALSCALE:GREGORIAN
METHOD:PUBLISH
X-WR-CALNAME:Kurs na Giżycko
X-ORIGINAL-URL:https://kursnagizycko.pl
X-WR-CALDESC:Events for Kurs na Giżycko
REFRESH-INTERVAL;VALUE=DURATION:PT1H
X-Robots-Tag:noindex
X-PUBLISHED-TTL:PT1H
BEGIN:VTIMEZONE
TZID:Europe/Warsaw
BEGIN:DAYLIGHT
TZOFFSETFROM:+0100
TZOFFSETTO:+0200
TZNAME:CEST
DTSTART:20260329T010000
END:DAYLIGHT
BEGIN:STANDARD
TZOFFSETFROM:+0200
TZOFFSETTO:+0100
TZNAME:CET
DTSTART:20261025T010000
END:STANDARD
END:VTIMEZONE
BEGIN:VEVENT
DTSTART;TZID=Europe/Warsaw:20260813T203000
DTEND;TZID=Europe/Warsaw:20260813T233000
DTSTAMP:20260424T192729
CREATED:20260320T095855Z
LAST-MODIFIED:20260320T095855Z
UID:8735-1786653000-1786663800@kursnagizycko.pl
SUMMARY:Koncert - Tomasz "Grom" Paciorek
DESCRIPTION:Już wkrótce wystąpi u nas Tomasz Gr0M Paciorek. Jeśli macie ochotę na dużą dawkę dobrej muzyki… przeplatanej szantami to musicie nas odwiedzić\, dopłynąć\, zacumować\, przyjechać – WSTĘP WOLNY\, dobra zabawa gwarantowana 🙂\nTroszkę o Tomku… Pochodzący z Człuchowa Tomasz „Gr0m” Paciorek – bo o nim właśnie mowa – kocha także żeglowanie. Taka droga prowadzi prosto na żeglarską scenę\, na której „Gr0m” przez lata wypracował własny styl. Jego repertuar to przede wszystkim piosenki żeglarskie\, ballady oraz standardy polskiego rocka. Jeden z tych\, którzy wiedzą o czym śpiewają. Żeglarz z krwi i kości\, zakochany w Mazurach.\nBawi publiczność nietuzinkowym podejściem do prowadzenia koncertu\, ma bardzo dobry kontakt z publicznością\, wszechstronny repertuar\, od szant przez poezję do klasyki polskiego rocka.\nWstęp BEZPŁATNY 🙂
URL:https://kursnagizycko.pl/kalendarz-wydarzen/koncert-tomasz-grom-paciorek-3/
LOCATION:Port Łabędzi Ostrów\, Piękna Góra\, Giżycko\, 11-500\, Poland
CATEGORIES:wydarzenia
ATTACH;FMTTYPE=image/jpeg:https://kursnagizycko.pl/wp-content/uploads/2026/03/grom-1.jpg
END:VEVENT
END:VCALENDAR