BEGIN:VCALENDAR
VERSION:2.0
PRODID:-//Kurs na Giżycko - ECPv6.1.3//NONSGML v1.0//EN
CALSCALE:GREGORIAN
METHOD:PUBLISH
X-WR-CALNAME:Kurs na Giżycko
X-ORIGINAL-URL:https://kursnagizycko.pl
X-WR-CALDESC:Events for Kurs na Giżycko
REFRESH-INTERVAL;VALUE=DURATION:PT1H
X-Robots-Tag:noindex
X-PUBLISHED-TTL:PT1H
BEGIN:VTIMEZONE
TZID:Europe/Warsaw
BEGIN:DAYLIGHT
TZOFFSETFROM:+0100
TZOFFSETTO:+0200
TZNAME:CEST
DTSTART:20260329T010000
END:DAYLIGHT
BEGIN:STANDARD
TZOFFSETFROM:+0200
TZOFFSETTO:+0100
TZNAME:CET
DTSTART:20261025T010000
END:STANDARD
END:VTIMEZONE
BEGIN:VEVENT
DTSTART;TZID=Europe/Warsaw:20260424T203000
DTEND;TZID=Europe/Warsaw:20260424T233000
DTSTAMP:20260424T144942
CREATED:20260320T084957Z
LAST-MODIFIED:20260320T084957Z
UID:8689-1777062600-1777073400@kursnagizycko.pl
SUMMARY:Koncert - Tomasz "Grom" Paciorek
DESCRIPTION:Gitarzysta i wokalista\, samouk\, miłośnik żagli i Mazur oraz podróży\, whisky i dobrej zabawy. Na scenie „szantowej” od 2004 roku pierwsze kroki stawiał w Warszawie\, w ślad za stylem Romana Roczenia\, z czasem jednak wykształcił własną osobowość sceniczną. Ma za sobą koncerty w całej Polsce od Gdańska po Kraków. Prywatnie żeglarz jachtowy\, zawodowo wykonawca piosenki żeglarskiej i lekarz chorych komputerów. W jego repertuarze są przeboje żeglarskie i ballady nieznane\, kilka utworów autorskich oraz standardy polskiego rocka. W 2020 roku ukazała się pierwsza płyta\, wydana przy wsparciu m. in. Tawerny Rozbitek i AZS Wilkasy\, „(NIE) MOJE PIOSENKI” wydana przez GROMa & Baltazara.
URL:https://kursnagizycko.pl/kalendarz-wydarzen/koncert-tomasz-grom-paciorek/
LOCATION:Tawerna Rozbitek\, ul. Niegocińska 5\, Wilkasy\, warmińsko-mazurskie\, 11-500\, Poland
CATEGORIES:wydarzenia
ATTACH;FMTTYPE=image/jpeg:https://kursnagizycko.pl/wp-content/uploads/2026/03/grom.jpg
END:VEVENT
END:VCALENDAR