BEGIN:VCALENDAR
VERSION:2.0
PRODID:-//Kurs na Giżycko - ECPv6.1.3//NONSGML v1.0//EN
CALSCALE:GREGORIAN
METHOD:PUBLISH
X-WR-CALNAME:Kurs na Giżycko
X-ORIGINAL-URL:https://kursnagizycko.pl
X-WR-CALDESC:Events for Kurs na Giżycko
REFRESH-INTERVAL;VALUE=DURATION:PT1H
X-Robots-Tag:noindex
X-PUBLISHED-TTL:PT1H
BEGIN:VTIMEZONE
TZID:Europe/Warsaw
BEGIN:DAYLIGHT
TZOFFSETFROM:+0100
TZOFFSETTO:+0200
TZNAME:CEST
DTSTART:20260329T010000
END:DAYLIGHT
BEGIN:STANDARD
TZOFFSETFROM:+0200
TZOFFSETTO:+0100
TZNAME:CET
DTSTART:20261025T010000
END:STANDARD
END:VTIMEZONE
BEGIN:VEVENT
DTSTART;TZID=Europe/Warsaw:20260214T163000
DTEND;TZID=Europe/Warsaw:20260214T163000
DTSTAMP:20260424T195148
CREATED:20260116T120809Z
LAST-MODIFIED:20260116T120809Z
UID:8236-1771086600-1771086600@kursnagizycko.pl
SUMMARY:Koncert Walentynkowy - Zakochani w Karnawale
DESCRIPTION:Jeśli szukasz pomysłu na wyjątkowy prezent dla drugiej połówki – mamy gotowe rozwiązanie. ✨\n🎭 Zakochani w Karnawale – Koncert Walentynkowy – 14 lutego\, godz. 16:30\, Sala Widowiskowa GCK. \nCzeka na Was elegancki\, nastrojowy koncert z największymi hitami opery\, operetki i musicalu\, w wykonaniu wybitnych artystów oraz tancerzy Fundacji AVANGART. \n🎤 Na scenie:\nKatarzyna Zając-Caban\nPiotr Wołosz\nZespół kameralny Fundacji AVANGART\nTancerze Fundacji AVANGART\n🎙 Prowadzenie: Jan Połowianiuk\n🎬 Reżyseria: Magdalena Wołosz \n🎟 Bilety już w sprzedaży!\n80 zł – normalny\n64 zł – z Giżycką Kartą Mieszkańca \n👉 Kupicie je w kasie GCK lub online na kino.gizycko.pl (zakładka „kup bilet”). \nNie odkładajcie decyzji – liczba miejsc jest ograniczona! Zarezerwujcie swoje miejsca i spędźcie niezapomniany\, karnawałowy wieczór przy najlepszej muzyce.
URL:https://kursnagizycko.pl/kalendarz-wydarzen/koncert-walentynkowy-zakochani-w-karnawale/
LOCATION:Giżyckie Centrum Kultury\, Konarskiego 8\, Giżycko\, warmińsko-mazurskie\, 11-500\, Poland
CATEGORIES:wydarzenia
END:VEVENT
END:VCALENDAR