BEGIN:VCALENDAR
VERSION:2.0
PRODID:-//Kurs na Giżycko - ECPv6.1.3//NONSGML v1.0//EN
CALSCALE:GREGORIAN
METHOD:PUBLISH
X-WR-CALNAME:Kurs na Giżycko
X-ORIGINAL-URL:https://kursnagizycko.pl
X-WR-CALDESC:Events for Kurs na Giżycko
REFRESH-INTERVAL;VALUE=DURATION:PT1H
X-Robots-Tag:noindex
X-PUBLISHED-TTL:PT1H
BEGIN:VTIMEZONE
TZID:Europe/Warsaw
BEGIN:DAYLIGHT
TZOFFSETFROM:+0100
TZOFFSETTO:+0200
TZNAME:CEST
DTSTART:20260329T010000
END:DAYLIGHT
BEGIN:STANDARD
TZOFFSETFROM:+0200
TZOFFSETTO:+0100
TZNAME:CET
DTSTART:20261025T010000
END:STANDARD
END:VTIMEZONE
BEGIN:VEVENT
DTSTART;TZID=Europe/Warsaw:20260423T170000
DTEND;TZID=Europe/Warsaw:20260423T170000
DTSTAMP:20260424T163429
CREATED:20260421T085449Z
LAST-MODIFIED:20260421T085449Z
UID:9107-1776963600-1776963600@kursnagizycko.pl
SUMMARY:LX Spotkanie z historią „Od niemieckiego Lötzen do polskiego Giżycka” | „Wokół kościoła ewangelickiego w Giżycku – w 200. rocznicę rozpoczęcia budowy”
DESCRIPTION:Co kryje historia kościoła ewangelickiego w Giżycku?\nCzy wiesz\, gdzie stała pierwsza świątynia?\nDlaczego ją przeniesiono?\nI czy naprawdę projekt nowego kościoła mógł wyjść spod ręki samego Karla Schinkla?\n🔥 Wielki pożar z 1822 roku zmienił wszystko – zniszczył miasto\, ale też zapoczątkował nowy rozdział jego historii. To właśnie wtedy narodziła się wizja świątyni\, którą znamy dziś.\n🕵️‍♂️ A co odkryto pod jej posadzką niemal 200 lat później?\nKrypty\, relikty dawnych konstrukcji\, ślady przeszłości\, o których wcześniej nie mieliśmy pojęcia…\nZapraszamy na wyjątkowe spotkanie\, które połączy historię z archeologią i odsłoni nieznane oblicze dawnego Lötzen i współczesnego Giżycka.\n📚 LX Spotkanie z historią\n„Od niemieckiego Lötzen do polskiego Giżycka”\n⛪ „Wokół kościoła ewangelickiego w Giżycku – w 200. rocznicę rozpoczęcia budowy”\n👥 Prelegenci:\nJan Sekta\ndr Jerzy Marek Łapo\n📅 23 kwietnia 2026\n🕔 godz. 17:00\n📍 Giżyckie Archiwum Cyfrowe\, ul. Warszawska 17\n🎥 Będzie też transmisja na żywo na Facebooku GAC-u Giżycko
URL:https://kursnagizycko.pl/kalendarz-wydarzen/lx-spotkanie-z-historia-od-niemieckiego-lotzen-do-polskiego-gizycka-wokol-kosciola-ewangelickiego-w-gizycku-w-200-rocznice-rozpoczecia-budowy/
LOCATION:Giżyckie Archiwum Cyfrowe\, ul. Warszawska 17\, Giżycko\, 11-500\, Poland
CATEGORIES:wydarzenia
ATTACH;FMTTYPE=image/jpeg:https://kursnagizycko.pl/wp-content/uploads/2026/04/spotkanie-z-historia.jpg
END:VEVENT
END:VCALENDAR