BEGIN:VCALENDAR
VERSION:2.0
PRODID:-//Kurs na Giżycko - ECPv6.1.3//NONSGML v1.0//EN
CALSCALE:GREGORIAN
METHOD:PUBLISH
X-WR-CALNAME:Kurs na Giżycko
X-ORIGINAL-URL:https://kursnagizycko.pl
X-WR-CALDESC:Events for Kurs na Giżycko
REFRESH-INTERVAL;VALUE=DURATION:PT1H
X-Robots-Tag:noindex
X-PUBLISHED-TTL:PT1H
BEGIN:VTIMEZONE
TZID:Europe/Warsaw
BEGIN:DAYLIGHT
TZOFFSETFROM:+0100
TZOFFSETTO:+0200
TZNAME:CEST
DTSTART:20260329T010000
END:DAYLIGHT
BEGIN:STANDARD
TZOFFSETFROM:+0200
TZOFFSETTO:+0100
TZNAME:CET
DTSTART:20261025T010000
END:STANDARD
END:VTIMEZONE
BEGIN:VEVENT
DTSTART;TZID=Europe/Warsaw:20260530T110000
DTEND;TZID=Europe/Warsaw:20260530T160000
DTSTAMP:20260424T194716
CREATED:20260421T090612Z
LAST-MODIFIED:20260421T090640Z
UID:9110-1780138800-1780156800@kursnagizycko.pl
SUMMARY:Mazurski Festyn Ekologiczny Eko-logika 2026
DESCRIPTION:Mazurski piknik z rozmowami o odpadach w tle\, to znak rozpoznawczy festynu „Eko-Logika”. Tradycyjnie nie zabraknie dobrej kuchni oraz tematycznych stoisk edukacyjnych.\nOrganizator poprzez kulturalno–rozrywkowe wydarzenia i dobrą zabawę\, stara się przybliżać uczestnikom proekologiczną tematykę i edukować w zakresie gospodarki odpadami.\nSzczegóły wkrótce.
URL:https://kursnagizycko.pl/kalendarz-wydarzen/mazurski-festyn-ekologiczny-eko-logika-2026/
LOCATION:amfiteatr nad Jeziorem Ryńskim\, ul. Szkolna\, Ryn\, warmińsko-mazurskie\, 11-520\, Poland
CATEGORIES:wydarzenia
ATTACH;FMTTYPE=image/jpeg:https://kursnagizycko.pl/wp-content/uploads/2026/04/eko-logika-2026.jpg
END:VEVENT
END:VCALENDAR