BEGIN:VCALENDAR
VERSION:2.0
PRODID:-//Kurs na Giżycko - ECPv6.1.3//NONSGML v1.0//EN
CALSCALE:GREGORIAN
METHOD:PUBLISH
X-WR-CALNAME:Kurs na Giżycko
X-ORIGINAL-URL:https://kursnagizycko.pl
X-WR-CALDESC:Events for Kurs na Giżycko
REFRESH-INTERVAL;VALUE=DURATION:PT1H
X-Robots-Tag:noindex
X-PUBLISHED-TTL:PT1H
BEGIN:VTIMEZONE
TZID:Europe/Warsaw
BEGIN:DAYLIGHT
TZOFFSETFROM:+0100
TZOFFSETTO:+0200
TZNAME:CEST
DTSTART:20260329T010000
END:DAYLIGHT
BEGIN:STANDARD
TZOFFSETFROM:+0200
TZOFFSETTO:+0100
TZNAME:CET
DTSTART:20261025T010000
END:STANDARD
END:VTIMEZONE
BEGIN:VEVENT
DTSTART;TZID=Europe/Warsaw:20260814T190000
DTEND;TZID=Europe/Warsaw:20260814T190000
DTSTAMP:20260424T205242
CREATED:20260409T104138Z
LAST-MODIFIED:20260409T104138Z
UID:9039-1786734000-1786734000@kursnagizycko.pl
SUMMARY:Mazury Stand-Up Night
DESCRIPTION:Przygotuj się na solidną dawkę humoru w wyjątkowej scenerii Twierdzy Boyen w Giżycku! Już 14 sierpnia 2026 scena rozgrzeje się do czerwoności dzięki topowym komikom polskiej sceny stand-upowej.\n🎤 Na scenie zobaczysz:\n– Adam Van Bendler\n– Tomek Kołecki\n– Adam Sobaniec\n– Paweł Chałupka\n– Grzesiek Wójtowicz\nTo będzie wieczór pełen błyskotliwych żartów\, trafnych obserwacji i energii\, która poniesie Cię od pierwszej minuty!\n🚪 Otwarcie bram: 18:00\n🕖 Start wydarzenia: 19:00\nZabierz znajomych\, dobry humor i przygotuj się na niezapomnianą noc śmiechu na Mazurach 🌅😂\n🎟 Start sprzedaży biletów już wkrótce!\nNie przegap – liczba miejsc będzie ograniczona!
URL:https://kursnagizycko.pl/kalendarz-wydarzen/mazury-stand-up-night/
LOCATION:Amfiteatr Twierdzy Boyen\, Turystyczna 1\, Giżycko\, warmińsko-mazurskie\, 11-500\, Poland
CATEGORIES:wydarzenia
ATTACH;FMTTYPE=image/jpeg:https://kursnagizycko.pl/wp-content/uploads/2026/04/mazury-stand-up.jpg
END:VEVENT
END:VCALENDAR