BEGIN:VCALENDAR
VERSION:2.0
PRODID:-//Kurs na Giżycko - ECPv6.1.3//NONSGML v1.0//EN
CALSCALE:GREGORIAN
METHOD:PUBLISH
X-WR-CALNAME:Kurs na Giżycko
X-ORIGINAL-URL:https://kursnagizycko.pl
X-WR-CALDESC:Events for Kurs na Giżycko
REFRESH-INTERVAL;VALUE=DURATION:PT1H
X-Robots-Tag:noindex
X-PUBLISHED-TTL:PT1H
BEGIN:VTIMEZONE
TZID:Europe/Warsaw
BEGIN:DAYLIGHT
TZOFFSETFROM:+0100
TZOFFSETTO:+0200
TZNAME:CEST
DTSTART:20260329T010000
END:DAYLIGHT
BEGIN:STANDARD
TZOFFSETFROM:+0200
TZOFFSETTO:+0100
TZNAME:CET
DTSTART:20261025T010000
END:STANDARD
END:VTIMEZONE
BEGIN:VEVENT
DTSTART;TZID=Europe/Warsaw:20260515T180000
DTEND;TZID=Europe/Warsaw:20260515T180000
DTSTAMP:20260424T194659
CREATED:20260420T094623Z
LAST-MODIFIED:20260420T094623Z
UID:9100-1778868000-1778868000@kursnagizycko.pl
SUMMARY:Noc Muzeów w Rynie
DESCRIPTION:Zapraszamy na wyjątkową Noc Muzeów w Rynie! ✨\nJuż 15 maja 2026 roku przeniesiemy się w czasie aby odkrywać historię i magię kina niemego 🎬\n🕰 Start: godz. 18:00\nWieczór rozpoczniemy od niezwykłej podróży w przeszłość –\n📜 rys historyczny Ryńskiego Zamku zaprezentuje pasjonat i znawca lokalnej historii Mirosław Kowalski\n🏛 następnie po Ryńskich Zbiorach Muzealnych oprowadzi kustoszka RZM Elza Fitza\n🎥 Godz. 19:30 – Kino Łabędź w Rynie\nCzeka na Was prawdziwa perełka: projekcja filmu niemego „Bestia” (1917) – jedynego zachowanego w całości filmu z legendarną Polą Negri nakręconego w Polsce!\nTo poruszający melodramat o losach młodej dziewczyny\, która ucieka z domu i próbuje odnaleźć się w świecie pełnym pokus\, miłości i niebezpieczeństw…\n🎶 Wyjątkowego klimatu doda muzyka na żywo w wykonaniu Marcina Pukaluka – kompozytora i performera\, który od lat tworzy oprawę muzyczną do największych klasyków kina niemego\, występując na festiwalach i w kinach w Polsce i na świecie.\n🎟 Bezpłatne wejściówki dostępne od 4 maja od godz. 10:00 w Bibliotece.\nTo będzie wieczór pełen historii\, emocji i niepowtarzalnych wrażeń…\nNie może Was zabraknąć! 🌙
URL:https://kursnagizycko.pl/kalendarz-wydarzen/noc-muzeow-w-rynie/
LOCATION:Ryn
CATEGORIES:wydarzenia
ATTACH;FMTTYPE=image/jpeg:https://kursnagizycko.pl/wp-content/uploads/2026/04/noc-muzeow-ryn.jpg
END:VEVENT
END:VCALENDAR