BEGIN:VCALENDAR
VERSION:2.0
PRODID:-//Kurs na Giżycko - ECPv6.1.3//NONSGML v1.0//EN
CALSCALE:GREGORIAN
METHOD:PUBLISH
X-WR-CALNAME:Kurs na Giżycko
X-ORIGINAL-URL:https://kursnagizycko.pl
X-WR-CALDESC:Events for Kurs na Giżycko
REFRESH-INTERVAL;VALUE=DURATION:PT1H
X-Robots-Tag:noindex
X-PUBLISHED-TTL:PT1H
BEGIN:VTIMEZONE
TZID:Europe/Warsaw
BEGIN:DAYLIGHT
TZOFFSETFROM:+0100
TZOFFSETTO:+0200
TZNAME:CEST
DTSTART:20260329T010000
END:DAYLIGHT
BEGIN:STANDARD
TZOFFSETFROM:+0200
TZOFFSETTO:+0100
TZNAME:CET
DTSTART:20261025T010000
END:STANDARD
END:VTIMEZONE
BEGIN:VEVENT
DTSTART;TZID=Europe/Warsaw:20260621T180000
DTEND;TZID=Europe/Warsaw:20260621T180000
DTSTAMP:20260424T211540
CREATED:20260326T093812Z
LAST-MODIFIED:20260326T093812Z
UID:8868-1782064800-1782064800@kursnagizycko.pl
SUMMARY:Noc Świętojańska nad Jeziorem Ryńskim
DESCRIPTION:Noc Świętojańska to jedno z najbardziej magicznych wydarzeń w roku – święto natury\, tradycji i wspólnego celebrowania najkrótszej nocy. W programie nie zabraknie tradycyjnych obrzędów świętojańskich.\nNoc Świętojańska w Rynie to widowisko taneczno-muzyczne dzieci i młodzieży\, jarmark świętojański\, obrzędy w wykonaniu zaproszonych grup oraz koncert ZESPOŁU MEGITZA oraz CEZARY MAKIEWICZ I KOLTERSI. To wyjątkowy wieczór\, w którym tradycja spotyka się z teraźniejszością\, tworząc niezapomniane emocje.
URL:https://kursnagizycko.pl/kalendarz-wydarzen/noc-swietojanska-nad-jeziorem-rynskim/
LOCATION:amfiteatr nad Jeziorem Ryńskim\, ul. Szkolna\, Ryn\, warmińsko-mazurskie\, 11-520\, Poland
CATEGORIES:wydarzenia
ATTACH;FMTTYPE=image/jpeg:https://kursnagizycko.pl/wp-content/uploads/2026/03/noc-sw-ryn.jpg
END:VEVENT
END:VCALENDAR