BEGIN:VCALENDAR
VERSION:2.0
PRODID:-//Kurs na Giżycko - ECPv6.1.3//NONSGML v1.0//EN
CALSCALE:GREGORIAN
METHOD:PUBLISH
X-WR-CALNAME:Kurs na Giżycko
X-ORIGINAL-URL:https://kursnagizycko.pl
X-WR-CALDESC:Events for Kurs na Giżycko
REFRESH-INTERVAL;VALUE=DURATION:PT1H
X-Robots-Tag:noindex
X-PUBLISHED-TTL:PT1H
BEGIN:VTIMEZONE
TZID:Europe/Warsaw
BEGIN:DAYLIGHT
TZOFFSETFROM:+0100
TZOFFSETTO:+0200
TZNAME:CEST
DTSTART:20260329T010000
END:DAYLIGHT
BEGIN:STANDARD
TZOFFSETFROM:+0200
TZOFFSETTO:+0100
TZNAME:CET
DTSTART:20261025T010000
END:STANDARD
END:VTIMEZONE
BEGIN:VEVENT
DTSTART;TZID=Europe/Warsaw:20260307T200000
DTEND;TZID=Europe/Warsaw:20260307T200000
DTSTAMP:20260425T001513
CREATED:20260223T101223Z
LAST-MODIFIED:20260224T090037Z
UID:8470-1772913600-1772913600@kursnagizycko.pl
SUMMARY:Prosecco Party | Dzień Kobiet w Hotelu Mazury
DESCRIPTION:✨ PROSECCO PARTY 2026 – Świętujemy Dzień Kobiet! ✨\nDrogie Panie (i nie tylko!) – 7 marca bawimy się bez ograniczeń! 💃🥂 Tego wieczoru Hotel Mazury zamieni się w najbardziej roztańczone miejsce w Giżycku. Szykujcie swoje najlepsze kreacje i zbierajcie ekipę – będzie elegancko\, energetycznie i z prosecco bez limitu!\n🥂 Co na Was czeka?\n✔️ Prosecco bez limitu\n✔️ Impreza z DJ-em\n✔️ Bogate menu ( kolacja\, przystawki\, ciepłe dania w bufecie\, ciasta i kawa/herbata)\n✔️ Wyjątkowa atmosfera i parkiet pełen energii\n📅 Kiedy? 7 marca 2026 r.\n⏰ Godzina: 20:00 – 3:00\n📍 Gdzie? Hotel Mazury\, ul. Wojska Polskiego 56\, Giżycko\n💰 Cena: 190 zł / osoba\n👯‍♀️ Grupa powyżej 5 osób? Otrzymujecie -10% zniżki!\n📞 Rezerwacje: 607 844 207\n⚠️ Liczba miejsc jest ograniczona – nie odkładaj decyzji na później.\nZadzwoń i zarezerwuj stolik już dziś! 🥂💖
URL:https://kursnagizycko.pl/kalendarz-wydarzen/prosecco-party-dzien-kobiet-w-hotelu-mazury/
LOCATION:Hotel Mazury\, Aleja Wojska Polskiego 56\, Giżycko\, 11-500\, Poland
CATEGORIES:wydarzenia
ORGANIZER;CN="Hotel%20Mazury":MAILTO:info@hotelmazury.pl
END:VEVENT
END:VCALENDAR