BEGIN:VCALENDAR
VERSION:2.0
PRODID:-//Kurs na Giżycko - ECPv6.1.3//NONSGML v1.0//EN
CALSCALE:GREGORIAN
METHOD:PUBLISH
X-WR-CALNAME:Kurs na Giżycko
X-ORIGINAL-URL:https://kursnagizycko.pl
X-WR-CALDESC:Events for Kurs na Giżycko
REFRESH-INTERVAL;VALUE=DURATION:PT1H
X-Robots-Tag:noindex
X-PUBLISHED-TTL:PT1H
BEGIN:VTIMEZONE
TZID:Europe/Warsaw
BEGIN:DAYLIGHT
TZOFFSETFROM:+0100
TZOFFSETTO:+0200
TZNAME:CEST
DTSTART:20260329T010000
END:DAYLIGHT
BEGIN:STANDARD
TZOFFSETFROM:+0200
TZOFFSETTO:+0100
TZNAME:CET
DTSTART:20261025T010000
END:STANDARD
END:VTIMEZONE
BEGIN:VEVENT
DTSTART;TZID=Europe/Warsaw:20260412T110000
DTEND;TZID=Europe/Warsaw:20260412T150000
DTSTAMP:20260424T211540
CREATED:20260409T105159Z
LAST-MODIFIED:20260409T105159Z
UID:9042-1775991600-1776006000@kursnagizycko.pl
SUMMARY:Puszcza w kwiaty strojna | wiosenny spacer
DESCRIPTION:Cudowna wiosna w rozpędzie 🥰\nPtaki\, płazy\, owady\, wszystko bzyczy\, buczy i śpiewa! Coroczny spektakl w pełni ale najpiękniejszą ozdobą tej pory roku są barwne kwiaty 🥰.\nPaletę otwierają niebiesko-fioletowe (choć nie tylko) przylaszczki\, bielą połyskują zawilce\, słodkim różem przyciągają miodunki i kokorycze\, nie brakuje też jaskrawej żółci podbiału.\nTakie bogactwo w Puszczy Boreckiej 💚\, a z dnia na dzień zakwitają kolejne\, przepiękne kobierce.\n12 kwietnia zapraszamy na spacer z podziwianiem wiosennego spektaklu.\nSpotykamy się o 11:00\nSpacer potrwa ok 4 godzin.\nPrzewidywany postój z ciepłą kawą i przekąską.\nCena spaceru 100 zł za osobę.\nZapisać się można przez wiadomość prywatną lub SMS na numer 783 557 608 Karolina i 791829180 Ada.\nZapraszamy 🥰
URL:https://kursnagizycko.pl/kalendarz-wydarzen/puszcza-w-kwiaty-strojna-wiosenny-spacer/
LOCATION:Puszcza Borecka\, Wolisko\, warmińsko-mazurskie\, 11-612\, Poland
CATEGORIES:wydarzenia
END:VEVENT
END:VCALENDAR