BEGIN:VCALENDAR
VERSION:2.0
PRODID:-//Kurs na Giżycko - ECPv6.1.3//NONSGML v1.0//EN
CALSCALE:GREGORIAN
METHOD:PUBLISH
X-WR-CALNAME:Kurs na Giżycko
X-ORIGINAL-URL:https://kursnagizycko.pl
X-WR-CALDESC:Events for Kurs na Giżycko
REFRESH-INTERVAL;VALUE=DURATION:PT1H
X-Robots-Tag:noindex
X-PUBLISHED-TTL:PT1H
BEGIN:VTIMEZONE
TZID:Europe/Warsaw
BEGIN:DAYLIGHT
TZOFFSETFROM:+0100
TZOFFSETTO:+0200
TZNAME:CEST
DTSTART:20260329T010000
END:DAYLIGHT
BEGIN:STANDARD
TZOFFSETFROM:+0200
TZOFFSETTO:+0100
TZNAME:CET
DTSTART:20261025T010000
END:STANDARD
END:VTIMEZONE
BEGIN:VEVENT
DTSTART;VALUE=DATE:20260130
DTEND;VALUE=DATE:20260202
DTSTAMP:20260424T212948
CREATED:20260124T093538Z
LAST-MODIFIED:20260124T093538Z
UID:8255-1769731200-1769990399@kursnagizycko.pl
SUMMARY:Rajd Pieszy "Mazurskie Fortyfikacje"
DESCRIPTION:Zimowa edycja Rajdu Pieszego Mazurskie Fortyfikacje 30 stycznia – 1 lutego 2026 r. \nProgram Rajdu: \nPiątek | 30 stycznia 2026 r. \nRajd rozpocznie się wieczorem o godz. 19:00 przed Hotelem Tajty\, skąd uczestnicy wyruszą autokarem w kierunku Twierdzy Boyen.\nDla uczestników z Giżycka i Wydmin możliwa będzie zbiórka alternatywna – przed Twierdzą Boyen o godz. 19:20. \nW planie przewidziane jest nocne zwiedzanie wybranych obiektów twierdzy z pochodniami\, które w zimowej scenerii prezentują się wyjątkowo klimatycznie. \nPo zakończeniu zwiedzania nastąpi pieszy powrót do Wilkas\, do Hotelu Tajty. Wieczór zakończy się wspólnym ogniskiem przy hotelu – czasem na integrację\, rozmowy i wprowadzenie w tematykę kolejnych dni rajdu. \nSobota | 31 stycznia 2026 r \nPo porannym śniadaniu (w godz. 7:30–8:30) uczestnicy wyruszą autokarem spod Hotelu Tajty o godz. 9:00.\nDla osób spoza hotelu planowany jest dodatkowy przystanek w Giżycku – dworzec autobusowy o godz. 9:20. \nGłówna część dnia poświęcona będzie pieszym odcinkom w rejonie dawnych umocnień granicznych\, tzw. Galindestellung.\nTrasa obejmie m.in. pozycję graniczną – punkt oporu „Kozioł” oraz schron typu Regelbau 105a\, z fragmentami przejść pieszych o łącznej długości ok. 2\,5 km. Uczestnicy zobaczą m.in.: \nschrony bierne\,\npozostałości innych obiektów fortyfikacyjnych. \nW dalszej części zaplanowane są przystanki przy schronach w rejonie miejscowości Jeże\, w tym przy obiektach artyleryjskich – obecnie niedostępnych od wewnątrz\, lecz bardzo efektownych z zewnątrz.\nŁączna długość kolejnych przejść pieszych wyniesie ok. 3\,5 km. \nW godzinach wczesnopopołudniowych przewidziany jest ciepły posiłek (okolice straży pożarnej w Piszu / lokalne bistro). \nPo przerwie uczestnicy odwiedzą m.in. schron bojowy typu Regelbau 502 na Piskiej Pozycji Ryglowej\, a następnie około godz. 17:00 nastąpi powrót. \nWieczorem zaplanowana jest oficjalna kolacja w Hotelu Tajty\, połączona z dłuższym spotkaniem i podsumowaniem dnia. \nNiedziela | 1 lutego 2026 r. \nPo śniadaniu (w godz. 8:00–9:00) uczestnicy wyruszą na ostatni etap rajdu o godz. 9:30. \nW planie znajduje się m.in. przejazd do Wejdyk\, gdzie zachowała się kopuła pancerna\, oraz dalszy przejazd w kierunku miejscowości Krzyżan\, w celu obejrzenia ruin schronów Giżyckiego Rejonu Umocnionego.\nŁączna długość przejść pieszych tego dnia wyniesie ok. 3 km. \nPo zakończeniu zwiedzania przewidziany jest powrót w godzinach wczesnopopołudniowych (ok. godz. 13:00) do Hotelu Tajty.\nRajd zakończy się ciepłym posiłkiem „na rozstanie” oraz oficjalnym podsumowaniem wydarzenia.
URL:https://kursnagizycko.pl/kalendarz-wydarzen/rajd-pieszy-mazurskie-fortyfikacje/
LOCATION:Mazury\, warmińsko-mazurskie\, Poland
CATEGORIES:wydarzenia
END:VEVENT
END:VCALENDAR