BEGIN:VCALENDAR
VERSION:2.0
PRODID:-//Kurs na Giżycko - ECPv6.1.3//NONSGML v1.0//EN
CALSCALE:GREGORIAN
METHOD:PUBLISH
X-WR-CALNAME:Kurs na Giżycko
X-ORIGINAL-URL:https://kursnagizycko.pl
X-WR-CALDESC:Events for Kurs na Giżycko
REFRESH-INTERVAL;VALUE=DURATION:PT1H
X-Robots-Tag:noindex
X-PUBLISHED-TTL:PT1H
BEGIN:VTIMEZONE
TZID:Europe/Warsaw
BEGIN:DAYLIGHT
TZOFFSETFROM:+0100
TZOFFSETTO:+0200
TZNAME:CEST
DTSTART:20260329T010000
END:DAYLIGHT
BEGIN:STANDARD
TZOFFSETFROM:+0200
TZOFFSETTO:+0100
TZNAME:CET
DTSTART:20261025T010000
END:STANDARD
END:VTIMEZONE
BEGIN:VEVENT
DTSTART;TZID=Europe/Warsaw:20260711T193000
DTEND;TZID=Europe/Warsaw:20260711T193000
DTSTAMP:20260424T180225
CREATED:20260415T103426Z
LAST-MODIFIED:20260415T103426Z
UID:9070-1783798200-1783798200@kursnagizycko.pl
SUMMARY:Retro Rock w Twierdzy Boyen
DESCRIPTION:🔥 Retro Rock w Twierdza Boyen! 🔥\nWracamy do brzmień\, które nigdy się nie starzeją! W wyjątkowej\, historycznej scenerii zabrzmi prawdziwy polski rock – surowy\, autentyczny i pełen energii.\nNa scenie:\n🎸 The Bill\n🎸 Róże Europy\nStart: 19:30\nTo będzie wieczór pełen gitarowych riffów\, kultowych utworów i niepowtarzalnej atmosfery. Twierdza\, muzyka i emocje\, które łączą pokolenia.\nBilety dostępne online: biletyna.pl – KUP SWÓJ BILET JUŻ DZIŚ!\n👉 Nie przegap – widzimy się pod sceną!
URL:https://kursnagizycko.pl/kalendarz-wydarzen/retro-rock-w-twierdzy-boyen/
LOCATION:Twierdza Boyen\, Turystyczna 1\, Giżycko\, warmińsko-mazurskie\, 11-500\, Poland
CATEGORIES:wydarzenia
ATTACH;FMTTYPE=image/jpeg:https://kursnagizycko.pl/wp-content/uploads/2026/04/retro-rock.jpg
END:VEVENT
END:VCALENDAR