BEGIN:VCALENDAR
VERSION:2.0
PRODID:-//Kurs na Giżycko - ECPv6.1.3//NONSGML v1.0//EN
CALSCALE:GREGORIAN
METHOD:PUBLISH
X-WR-CALNAME:Kurs na Giżycko
X-ORIGINAL-URL:https://kursnagizycko.pl
X-WR-CALDESC:Events for Kurs na Giżycko
REFRESH-INTERVAL;VALUE=DURATION:PT1H
X-Robots-Tag:noindex
X-PUBLISHED-TTL:PT1H
BEGIN:VTIMEZONE
TZID:Europe/Warsaw
BEGIN:DAYLIGHT
TZOFFSETFROM:+0100
TZOFFSETTO:+0200
TZNAME:CEST
DTSTART:20260329T010000
END:DAYLIGHT
BEGIN:STANDARD
TZOFFSETFROM:+0200
TZOFFSETTO:+0100
TZNAME:CET
DTSTART:20261025T010000
END:STANDARD
END:VTIMEZONE
BEGIN:VEVENT
DTSTART;TZID=Europe/Warsaw:20260627T180000
DTEND;TZID=Europe/Warsaw:20260627T180000
DTSTAMP:20260424T211716
CREATED:20260223T120358Z
LAST-MODIFIED:20260223T120358Z
UID:8498-1782583200-1782583200@kursnagizycko.pl
SUMMARY:Sobótka | obchody Nocy Świętojańskiej "Szept Wianków"
DESCRIPTION:Obchody Słowiańskiej Sobótki\nSerdecznie zapraszamy na wyjątkowe\, klimatyczne obchody Słowiańskiej Sobótki nad jeziorem Niegocin. To wieczór pełen tradycji\, ognia\, muzyki i wspólnego świętowania w bliskości natury.\nGwiazda wieczoru: Echo Rodu\nMiejsce: Camping Bystry nad jeziorem Niegocin\nData: 27.06.2026
URL:https://kursnagizycko.pl/kalendarz-wydarzen/sobotka-obchody-nocy-swietojanskiej-szept-wiankow/
LOCATION:Camping Bystry\, Bystry 2A\, Giżycko\, 11-500\, Poland
CATEGORIES:wydarzenia
ATTACH;FMTTYPE=image/jpeg:https://kursnagizycko.pl/wp-content/uploads/2026/02/sobotka.jpg
END:VEVENT
END:VCALENDAR