BEGIN:VCALENDAR
VERSION:2.0
PRODID:-//Kurs na Giżycko - ECPv6.1.3//NONSGML v1.0//EN
CALSCALE:GREGORIAN
METHOD:PUBLISH
X-WR-CALNAME:Kurs na Giżycko
X-ORIGINAL-URL:https://kursnagizycko.pl
X-WR-CALDESC:Events for Kurs na Giżycko
REFRESH-INTERVAL;VALUE=DURATION:PT1H
X-Robots-Tag:noindex
X-PUBLISHED-TTL:PT1H
BEGIN:VTIMEZONE
TZID:Europe/Warsaw
BEGIN:DAYLIGHT
TZOFFSETFROM:+0100
TZOFFSETTO:+0200
TZNAME:CEST
DTSTART:20260329T010000
END:DAYLIGHT
BEGIN:STANDARD
TZOFFSETFROM:+0200
TZOFFSETTO:+0100
TZNAME:CET
DTSTART:20261025T010000
END:STANDARD
END:VTIMEZONE
BEGIN:VEVENT
DTSTART;TZID=Europe/Warsaw:20260427T190000
DTEND;TZID=Europe/Warsaw:20260427T190000
DTSTAMP:20260424T143149
CREATED:20260128T102004Z
LAST-MODIFIED:20260421T103815Z
UID:8283-1777316400-1777316400@kursnagizycko.pl
SUMMARY:Stand-up | Michał Leja w najnowszym programie "1991"
DESCRIPTION:Michał Leja powraca z nowym programem stand-upowym pod tytułem „1991”\, w którym wchodzi w tematy\, których unikał przez lata – od trudnych wspomnień z dzieciństwa\, przez niepewność dorosłego życia\, aż po swoje najgłębiej skrywane lęki i rozterki. To program\, który balansuje na granicy żartu i refleksji\, odkrywając przed publicznością zupełnie nową stronę Michała Lei.\n„1991” to stand-up pełen odwagi\, autentyczności i bezkompromisowego śmiechu!\nMichał Leja to stand-uper\, improwizator i twórca wielu formatów komediowych (m.in. „Encyklopedia stand-upu”\, „Michał Leja Show”\, „Mini Leja Show”\, „Z kartki”)\, który szturmem zdobył sympatię publiczności w całej Polsce oraz uznanie środowiska komediowego. Niecodzienne spojrzenie na świat\, świetna interakcja z publicznością oraz otwartość na inne formy sprawiają\, że każdy występ Michała to rozrywka na najwyższym poziomie.\nBrał udział w największych trasach stand-upowych (m.in. Please Stand-up\, Gala Stand-upu)\, a solowo zrealizował do tej pory 5 programów stand-upowych: „Laugh Out Loud” (Netflix\, 2016)\, „Wszystko Pod Kontrolą” (Youtube\, 2018)\, „Bezbek” (2019) oraz „Anatomia” (Youtube\, 2022)\, „Chciałbym się mylić” (Youtube\, 2024). \nBilety: www.kupbilecik.pl
URL:https://kursnagizycko.pl/kalendarz-wydarzen/stand-up-michal-leja-w-najnowszym-programie-1991/
LOCATION:Giżyckie Centrum Kultury\, Konarskiego 8\, Giżycko\, warmińsko-mazurskie\, 11-500\, Poland
CATEGORIES:wydarzenia
ATTACH;FMTTYPE=image/jpeg:https://kursnagizycko.pl/wp-content/uploads/2026/01/leja.jpg
END:VEVENT
END:VCALENDAR