BEGIN:VCALENDAR
VERSION:2.0
PRODID:-//Kurs na Giżycko - ECPv6.1.3//NONSGML v1.0//EN
CALSCALE:GREGORIAN
METHOD:PUBLISH
X-WR-CALNAME:Kurs na Giżycko
X-ORIGINAL-URL:https://kursnagizycko.pl
X-WR-CALDESC:Events for Kurs na Giżycko
REFRESH-INTERVAL;VALUE=DURATION:PT1H
X-Robots-Tag:noindex
X-PUBLISHED-TTL:PT1H
BEGIN:VTIMEZONE
TZID:Europe/Warsaw
BEGIN:DAYLIGHT
TZOFFSETFROM:+0100
TZOFFSETTO:+0200
TZNAME:CEST
DTSTART:20260329T010000
END:DAYLIGHT
BEGIN:STANDARD
TZOFFSETFROM:+0200
TZOFFSETTO:+0100
TZNAME:CET
DTSTART:20261025T010000
END:STANDARD
END:VTIMEZONE
BEGIN:VEVENT
DTSTART;TZID=Europe/Warsaw:20260425T190000
DTEND;TZID=Europe/Warsaw:20260425T190000
DTSTAMP:20260424T142817
CREATED:20260309T105447Z
LAST-MODIFIED:20260309T105447Z
UID:8634-1777143600-1777143600@kursnagizycko.pl
SUMMARY:Teatr Czwarte Miasto | Kłopoty Małżeńskie
DESCRIPTION:„Kłopoty małżeńskie” jest to sztuka teatralna\, napisana specjalnie dla tej dwójki aktorów.\nKinga i Robert to typowe małżeństwo z kilkunastoletnim stażem są doświadczonymi zawodnikami w małżeńskim sparingu. Mistrzowie w swoich dziedzinach\, dla których awantura czy domowy cyrk\, to normalność. Przyjdźcie kibicować Kindze albo Robertowi…\na może obojgu…\nNaszych bohaterów spotykamy w momencie przejściowym. Rutyna codzienności\, nierozwiązane i zamiecione pod dywan problemy doprowadziły oboje do ostateczności i decyzji o rozwodzie.\nW lawinie wzajemnych oskarżeń\, kpin i złośliwości usiłują przeciągnąć sąd i widzów na swoją stronę. Używane przez małżonków argumenty mają coraz cięższy kaliber i zaskakują nie tylko widzów\, ale również samych bohaterów tej znakomitej historii.\nTwórcy przedstawienia\, improwizując emocją\, słowem i żartem z dystansem pokazują nam odwieczną\, damsko-męską walkę o dominację\, równouprawnienie\, o to kto inwestuje więcej w związek\, kto dla niego więcej poświęcił\, czyje oczekiwania są ważniejsze\, czyje zaspokojone\, a czyje zawiedzione…\nZapraszamy na spektakl\, który dla większości widzów stał się nie tylko kultową komedią małżeńską\, ale także inspiracją do pokochania swojego małżeństwa na nowo. \nObsada:\nMartyna Janczewska\nJakub Firewicz\nAutorzy: Mariusz Więcek i Jerzy Wójcicki\nMuzyka: Paweł Zagańczyk\nReżyseria i scenografia: Maciej Konopiński\nSpektakl dla widzów od 16 roku życia\nCzas trwania: 70 min \nBilety: https://kino.gizycko.pl/production/klopoty-malzenskie/
URL:https://kursnagizycko.pl/kalendarz-wydarzen/teatr-czwarte-miasto-klopoty-malzenskie/
LOCATION:Giżyckie Centrum Kultury\, Konarskiego 8\, Giżycko\, warmińsko-mazurskie\, 11-500\, Poland
CATEGORIES:wydarzenia
ATTACH;FMTTYPE=image/jpeg:https://kursnagizycko.pl/wp-content/uploads/2026/03/teatr.jpg
END:VEVENT
END:VCALENDAR