BEGIN:VCALENDAR
VERSION:2.0
PRODID:-//Kurs na Giżycko - ECPv6.1.3//NONSGML v1.0//EN
CALSCALE:GREGORIAN
METHOD:PUBLISH
X-WR-CALNAME:Kurs na Giżycko
X-ORIGINAL-URL:https://kursnagizycko.pl
X-WR-CALDESC:Events for Kurs na Giżycko
REFRESH-INTERVAL;VALUE=DURATION:PT1H
X-Robots-Tag:noindex
X-PUBLISHED-TTL:PT1H
BEGIN:VTIMEZONE
TZID:Europe/Warsaw
BEGIN:DAYLIGHT
TZOFFSETFROM:+0100
TZOFFSETTO:+0200
TZNAME:CEST
DTSTART:20260329T010000
END:DAYLIGHT
BEGIN:STANDARD
TZOFFSETFROM:+0200
TZOFFSETTO:+0100
TZNAME:CET
DTSTART:20261025T010000
END:STANDARD
END:VTIMEZONE
BEGIN:VEVENT
DTSTART;TZID=Europe/Warsaw:20260425T133000
DTEND;TZID=Europe/Warsaw:20260425T180000
DTSTAMP:20260424T142940
CREATED:20260309T105110Z
LAST-MODIFIED:20260330T081124Z
UID:8630-1777123800-1777140000@kursnagizycko.pl
SUMMARY:Twierdza w Ogniu
DESCRIPTION:„Twierdza w ogniu” to pierwsze tego typu wydarzenie organizowane na terenie Twierdzy Boyen\, które łączy widowiskową inscenizację militarną z rodzinnym piknikiem wojskowym. Na uczestników czeka bogaty program atrakcji dla dzieci i dorosłych – od animacji i wystaw tematycznych\, po pokazy nowoczesnego sprzętu wojskowego. Będzie można z bliska zobaczyć pojazdy i wyposażenie armii\, porozmawiać z żołnierzami oraz lepiej poznać realia ich służby. \nGłównym punktem wydarzenia będzie spektakularna inscenizacja przygotowana przez 15 Giżycką Brygadę Zmechanizowaną. Dynamiczne działania wojskowe z udziałem pojazdów i sprzętu militarnego\, wzbogacone o efekty specjalne i realistyczną oprawę\, dostarczą widzom wielu emocji i niezapomnianych wrażeń. W programie znajdą się również pokazy specjalistyczne\, m.in. prezentacja udzielania pierwszej pomocy w warunkach polowych oraz pokaz gaszenia pożaru. To doskonała okazja\, by z bliska zobaczyć pracę służb ratowniczych i poznać wykorzystywane przez nie techniki. \nTwierdza w ogniu to wyjątkowe połączenie edukacji\, historii i dobrej zabawy – wydarzenie\, które pozwoli poczuć atmosferę prawdziwej akcji wojskowej i ratowniczej. Wydarzenie biletowane. Bilety:\n25 zł – bilet zwykły\n20 zł – bilet ulgowy\n10 zł – bilet dla posiadaczy Giżyckiej Karty Mieszkańca (za okazaniem Karty) \nDo zobaczenia w Twierdzy Boyen!
URL:https://kursnagizycko.pl/kalendarz-wydarzen/twierdza-w-ogniu/
LOCATION:Twierdza Boyen\, Turystyczna 1\, Giżycko\, warmińsko-mazurskie\, 11-500\, Poland
CATEGORIES:wydarzenia
ATTACH;FMTTYPE=image/jpeg:https://kursnagizycko.pl/wp-content/uploads/2026/03/twierdza-w-ogniu-1.jpg
END:VEVENT
END:VCALENDAR