BEGIN:VCALENDAR
VERSION:2.0
PRODID:-//Kurs na Giżycko - ECPv6.1.3//NONSGML v1.0//EN
CALSCALE:GREGORIAN
METHOD:PUBLISH
X-WR-CALNAME:Kurs na Giżycko
X-ORIGINAL-URL:https://kursnagizycko.pl
X-WR-CALDESC:Events for Kurs na Giżycko
REFRESH-INTERVAL;VALUE=DURATION:PT1H
X-Robots-Tag:noindex
X-PUBLISHED-TTL:PT1H
BEGIN:VTIMEZONE
TZID:Europe/Warsaw
BEGIN:DAYLIGHT
TZOFFSETFROM:+0100
TZOFFSETTO:+0200
TZNAME:CEST
DTSTART:20260329T010000
END:DAYLIGHT
BEGIN:STANDARD
TZOFFSETFROM:+0200
TZOFFSETTO:+0100
TZNAME:CET
DTSTART:20261025T010000
END:STANDARD
END:VTIMEZONE
BEGIN:VEVENT
DTSTART;TZID=Europe/Warsaw:20260213T170000
DTEND;TZID=Europe/Warsaw:20260213T190000
DTSTAMP:20260424T193018
CREATED:20260206T082712Z
LAST-MODIFIED:20260206T082712Z
UID:8340-1771002000-1771009200@kursnagizycko.pl
SUMMARY:Walentynkowe planszówki w Twierdzy Boyen
DESCRIPTION:Twierdza Boyen zaprasza wieczór gier pt. WALENTYNKOWE PLANSZÓWKI\nZapraszamy na wieczór pełen gier i dobrej zabawy – idealny dla rodzin\, babć i dziadków\, zakochanych… i wszystkich\, którzy lubią spędzać czas razem. \nGodzina 17:00\nMiejsce: Twierdza Boyen/Wasztat Zbrojmistrza\nBilet: 1\,00 zł \nPrzyjdź i zagraj w proste i bardziej wymagające gry\, pośmiej się i spędź czas w świetnym towarzystwie. Niech wieczór będzie pretekstem do rozmów\, śmiechu i wspólnych chwil w klimatycznej Twierdzy Boyen w Giżycku.
URL:https://kursnagizycko.pl/kalendarz-wydarzen/walentynkowe-planszowki-w-twierdzy-boyen/
LOCATION:Twierdza Boyen\, Turystyczna 1\, Giżycko\, warmińsko-mazurskie\, 11-500\, Poland
CATEGORIES:wydarzenia
END:VEVENT
END:VCALENDAR