BEGIN:VCALENDAR
VERSION:2.0
PRODID:-//Kurs na Giżycko - ECPv6.1.3//NONSGML v1.0//EN
CALSCALE:GREGORIAN
METHOD:PUBLISH
X-WR-CALNAME:Kurs na Giżycko
X-ORIGINAL-URL:https://kursnagizycko.pl
X-WR-CALDESC:Events for Kurs na Giżycko
REFRESH-INTERVAL;VALUE=DURATION:PT1H
X-Robots-Tag:noindex
X-PUBLISHED-TTL:PT1H
BEGIN:VTIMEZONE
TZID:Europe/Warsaw
BEGIN:DAYLIGHT
TZOFFSETFROM:+0100
TZOFFSETTO:+0200
TZNAME:CEST
DTSTART:20260329T010000
END:DAYLIGHT
BEGIN:STANDARD
TZOFFSETFROM:+0200
TZOFFSETTO:+0100
TZNAME:CET
DTSTART:20261025T010000
END:STANDARD
END:VTIMEZONE
BEGIN:VEVENT
DTSTART;TZID=Europe/Warsaw:20260219T153000
DTEND;TZID=Europe/Warsaw:20260219T153000
DTSTAMP:20260424T201007
CREATED:20260217T085953Z
LAST-MODIFIED:20260217T085953Z
UID:8416-1771515000-1771515000@kursnagizycko.pl
SUMMARY:Zamki w Krainie Wygasłych Wulkanów | spotkanie autorkie & warsztaty słowa
DESCRIPTION:Zamki w Krainie Wygasłych Wulkanów – spotkanie autorskie & warsztaty słowa\nZapraszamy na wyjątkowe literacko-twórcze popołudnie w klimacie przygody\, tajemnicy i dawnych legend!\nKiedy? 19 lutego 2026 (czwartek)\nO Której? Godzina 15:45\nGdzie? Pod Zachodzącym Słońcem\nW programie:\n✨ Spotkanie autorskie z Ewa Brodzka\nPoznaj kulisy powstawania „Zamków w Krainie Wygasłych Wulkanów”\, posłuchaj opowieści o inspiracjach i zadaj własne pytania.\n✍️ Wydarzenie specjalne – warsztaty słowa\nKreatywne zajęcia\, jakich jeszcze w Giżycku nie było! Dla wszystkich\, którzy kochają historie\, wyobraźnię i zabawę językiem.\nTo idealna okazja\, by rozgrzać się przy dobrej kawie\, zanurzyć w świecie opowieści i wziąć udział w twórczych warsztatach.\nPrzyjdź\, posłuchaj\, daj się porwać przygodzie i odkryj magię słowa!
URL:https://kursnagizycko.pl/kalendarz-wydarzen/zamki-w-krainie-wygaslych-wulkanow-spotkanie-autorkie-warsztaty-slowa/
LOCATION:Pod Zachodzącym Słońcem\, Pasaż Portowy 1\, Giżycko\, warmińsko-mazurskie\, 11-500\, Poland
CATEGORIES:wydarzenia
END:VEVENT
END:VCALENDAR