BEGIN:VCALENDAR
VERSION:2.0
PRODID:-//Kurs na Giżycko - ECPv6.1.3//NONSGML v1.0//EN
CALSCALE:GREGORIAN
METHOD:PUBLISH
X-ORIGINAL-URL:https://kursnagizycko.pl
X-WR-CALDESC:Events for Kurs na Giżycko
REFRESH-INTERVAL;VALUE=DURATION:PT1H
X-Robots-Tag:noindex
X-PUBLISHED-TTL:PT1H
BEGIN:VTIMEZONE
TZID:Europe/Warsaw
BEGIN:DAYLIGHT
TZOFFSETFROM:+0100
TZOFFSETTO:+0200
TZNAME:CEST
DTSTART:20260329T010000
END:DAYLIGHT
BEGIN:STANDARD
TZOFFSETFROM:+0200
TZOFFSETTO:+0100
TZNAME:CET
DTSTART:20261025T010000
END:STANDARD
END:VTIMEZONE
BEGIN:VEVENT
DTSTART;TZID=Europe/Warsaw:20260501T110000
DTEND;TZID=Europe/Warsaw:20260503T200000
DTSTAMP:20260424T180615
CREATED:20260415T110606Z
LAST-MODIFIED:20260415T110606Z
UID:10001193-1777633200-1777838400@kursnagizycko.pl
SUMMARY:Artystyczna Majówka 2026 w Galerii Sztuki Schron
DESCRIPTION:Artystyczna Majówka w Galerii Sztuki Schron w Giżycku\n1–3 maja | piątek–sobota–niedziela | godz. 11:00–20:00 \nZapraszamy na wyjątkową Artystyczną Majówkę w Galerii Sztuki Schron w Giżycku. Przez trzy dni będzie można odwiedzać galerię w godzinach 11:00–20:00 i zobaczyć stałą ekspozycję „Randez Vous ze sztuką”\, prezentującą twórczość artystów światowych\, polskich i lokalnych.\nSpecjalnymi gośćmi tegorocznej majówki będą Jerzy Stachura oraz Stanisław Poskrobko. Będzie można zobaczyć ich najnowsze dzieła oraz oczywiście – porozmawiać z artystami.\nJerzy Stachura to malarz\, poeta i bard związany z Gdynią. Jego twórczość malarska wyróżnia się ekspresją\, intensywnym kolorem i emocjonalnym przekazem. Inspirują go między innymi Vincent van Gogh\, miasto\, morze oraz rodzinny Grabówek.\nStanisław Poskrobko\, nazywany Podlaskim Nikiforem\, to malarz samouk z Podlasia\, tworzący własnym\, rozpoznawalnym językiem artystycznym. W jego pracach ważne miejsce zajmują natura\, światło\, pejzaż nadnarwiański i kolor\, który staje się nośnikiem emocji. \nPoza gośćmi specjalnymi zagoszczą u nas oraz swoje dzieła zaprezentują również nasi wspaniali lokalni artyści:\nJacek Liminowicz – malarstwo\nJózef Niewiński – rzeźba\nRegina Danuta Biesiadecka – ceramika\nDorota Jakacka – malarstwo\nJanina Knap – malarstwo\nAnna Fedyk – malarstwo\nNa miejscu\, jak zawsze\, czekać będą na naszych gości kawa\, herbata i ciasto. 🙂\nZapraszamy serdecznie do Galerii Sztuki Schron w Giżycku — spędźmy ten majowy czas w atmosferze sztuki\, spotkań i inspiracji.
URL:https://kursnagizycko.pl/kalendarz-wydarzen/artystyczna-majowka-2026-w-galerii-sztuki-schron/
LOCATION:Galeria Sztuki Schron\, Plac Grunwaldzki 1A\, Giżycko\, warmińsko-mazurskie\, 11-500\, Poland
CATEGORIES:wydarzenia
ATTACH;FMTTYPE=image/jpeg:https://kursnagizycko.pl/wp-content/uploads/2026/04/majowka-schron.jpg
END:VEVENT
END:VCALENDAR