BEGIN:VCALENDAR
VERSION:2.0
PRODID:-//Kurs na Giżycko - ECPv6.1.3//NONSGML v1.0//EN
CALSCALE:GREGORIAN
METHOD:PUBLISH
X-WR-CALNAME:Kurs na Giżycko
X-ORIGINAL-URL:https://kursnagizycko.pl
X-WR-CALDESC:Events for Kurs na Giżycko
REFRESH-INTERVAL;VALUE=DURATION:PT1H
X-Robots-Tag:noindex
X-PUBLISHED-TTL:PT1H
BEGIN:VTIMEZONE
TZID:Europe/Warsaw
BEGIN:DAYLIGHT
TZOFFSETFROM:+0100
TZOFFSETTO:+0200
TZNAME:CEST
DTSTART:20260329T010000
END:DAYLIGHT
BEGIN:STANDARD
TZOFFSETFROM:+0200
TZOFFSETTO:+0100
TZNAME:CET
DTSTART:20261025T010000
END:STANDARD
END:VTIMEZONE
BEGIN:VEVENT
DTSTART;TZID=Europe/Warsaw:20260510T100000
DTEND;TZID=Europe/Warsaw:20260510T160000
DTSTAMP:20260424T213448
CREATED:20260330T082051Z
LAST-MODIFIED:20260330T082051Z
UID:10001169-1778407200-1778428800@kursnagizycko.pl
SUMMARY:Zlot Miłośników Niemieckiej Motoryzacji
DESCRIPTION:Zlot Miłośników Niemieckiej Motoryzacji \n10 maja w godz. 10.00-16.00 \nPlac marsz. J. Piłsduskiego \nZapraszamy wszystkich fanów niemieckiej precyzji\, stylu i mocy na wyjątkowy zlot! BMW\, Audi\, Mercedes\, Volkswagen \, Porsche oraz Opel – jeśli kochasz te marki\, to wydarzenie jest dla Ciebie!\nCzekają na Was piękne maszyny\, dobrą atmosfera\, konkursy z nagrodami i mnóstwo motoryzacyjnych emocji. Dołącz do nas i pokaż swoją furę!
URL:https://kursnagizycko.pl/kalendarz-wydarzen/zlot-milosnikow-niemieckiej-motoryzacji/
LOCATION:Plac Piłsudskiego\, Giżycko\, warmińsko-mazurskie\, Poland
CATEGORIES:wydarzenia
ATTACH;FMTTYPE=image/jpeg:https://kursnagizycko.pl/wp-content/uploads/2026/03/milosnicy.jpg
END:VEVENT
END:VCALENDAR