BEGIN:VCALENDAR
VERSION:2.0
PRODID:-//Kurs na Giżycko - ECPv6.1.3//NONSGML v1.0//EN
CALSCALE:GREGORIAN
METHOD:PUBLISH
X-ORIGINAL-URL:https://kursnagizycko.pl
X-WR-CALDESC:Events for Kurs na Giżycko
REFRESH-INTERVAL;VALUE=DURATION:PT1H
X-Robots-Tag:noindex
X-PUBLISHED-TTL:PT1H
BEGIN:VTIMEZONE
TZID:Europe/Warsaw
BEGIN:DAYLIGHT
TZOFFSETFROM:+0100
TZOFFSETTO:+0200
TZNAME:CEST
DTSTART:20260329T010000
END:DAYLIGHT
BEGIN:STANDARD
TZOFFSETFROM:+0200
TZOFFSETTO:+0100
TZNAME:CET
DTSTART:20261025T010000
END:STANDARD
END:VTIMEZONE
BEGIN:VEVENT
DTSTART;TZID=Europe/Warsaw:20260311T170000
DTEND;TZID=Europe/Warsaw:20260311T170000
DTSTAMP:20260425T021039
CREATED:20260309T091930Z
LAST-MODIFIED:20260309T091930Z
UID:10001046-1773248400-1773248400@kursnagizycko.pl
SUMMARY:Wernisaż wystawy "Ramzes znad Kirsajt. Fotografie Zenona Kucharka z planu filmu Faraon"
DESCRIPTION:„Ramzes znad Kirsajt.\nFotografie Zenona Kucharka z planu filmu Faraon”\n**11 marca 2026 r. o godz. 17.00** w siedzibie Giżyckiego Archiwum Cyfrowego przy ul. Warszawskiej 17 w Giżycku.\nPrezentowane fotografie autorstwa Zenona Kucharka powstały podczas realizacji filmu Faraon w reżyserii Jerzego Kawalerowicza i ukazują wyjątkowe chwile z planu jednej z najważniejszych produkcji w historii polskiego kina.\nWernisaż odbędzie się w roku 60. rocznicy premiery filmu „Faraon”\, będąc jednocześnie okazją do przypomnienia niezwykłej historii jego powstawania oraz związków tej wybitnej produkcji z Mazurami.\nZdjęcia Mistrza Zenona wzbogacą również zdjęcia ze zbiorów Grzegorza Pająka.\nDo zobaczenia 🙂
URL:https://kursnagizycko.pl/kalendarz-wydarzen/wernisaz-wystawy-ramzes-znad-kirsajt-fotografie-zenona-kucharka-z-planu-filmu-faraon/
LOCATION:Giżyckie Archiwum Cyfrowe\, ul. Warszawska 17\, Giżycko\, 11-500\, Poland
CATEGORIES:wydarzenia
ORGANIZER;CN="Gi%C5%BCyckie%20Archiwum%20Cyfrowe":MAILTO:gac@gizycko.pl
END:VEVENT
END:VCALENDAR