BEGIN:VCALENDAR
VERSION:2.0
PRODID:-//Kurs na Giżycko - ECPv6.1.3//NONSGML v1.0//EN
CALSCALE:GREGORIAN
METHOD:PUBLISH
X-ORIGINAL-URL:https://kursnagizycko.pl
X-WR-CALDESC:Events for Kurs na Giżycko
REFRESH-INTERVAL;VALUE=DURATION:PT1H
X-Robots-Tag:noindex
X-PUBLISHED-TTL:PT1H
BEGIN:VTIMEZONE
TZID:Europe/Warsaw
BEGIN:DAYLIGHT
TZOFFSETFROM:+0100
TZOFFSETTO:+0200
TZNAME:CEST
DTSTART:20260329T010000
END:DAYLIGHT
BEGIN:STANDARD
TZOFFSETFROM:+0200
TZOFFSETTO:+0100
TZNAME:CET
DTSTART:20261025T010000
END:STANDARD
END:VTIMEZONE
BEGIN:VEVENT
DTSTART;TZID=Europe/Warsaw:20260418T190000
DTEND;TZID=Europe/Warsaw:20260418T210000
DTSTAMP:20260424T180500
CREATED:20260316T090358Z
LAST-MODIFIED:20260316T090358Z
UID:10001060-1776538800-1776546000@kursnagizycko.pl
SUMMARY:Paweł Chałupka - Stand Up | Wydminy
DESCRIPTION:Paweł Chałupka powraca z zupełnie nowym\, świeżutkim programem stand-upowym „Życie jest nobelon”!\nJeśli myślisz\, że już niczym Cię nie zaskoczy – grubo się mylisz. To\, co tym razem przygotował\, to jazda bez trzymanki przez najdziwniejsze zakamarki codzienności – tej naszej\, polskiej\, absurdalnej. Paweł Chałupka – Zdobył serca widzów prawdziwymi historiami z życia z czasów pracy w gastronomii\, jednak pod maską frustrata skrywa skrzydlatą duszę i pięknie pokręcony umysł.\nNie zdziwcie się\, jeśli jego występ nagle zacznie wykraczać znacznie poza ramy tradycyjnego stand-upu.\nWystąpi również support. \nBilety na kupbilecik.pl
URL:https://kursnagizycko.pl/kalendarz-wydarzen/pawel-chalupka-stand-up-wydminy/
LOCATION:GOK Wydminy\, pl. Rynek 1/3\, Wydminy\, 11-510\, Poland
CATEGORIES:wydarzenia
END:VEVENT
BEGIN:VEVENT
DTSTART;TZID=Europe/Warsaw:20260215T190000
DTEND;TZID=Europe/Warsaw:20260215T210000
DTSTAMP:20260424T180500
CREATED:20260124T094938Z
LAST-MODIFIED:20260124T094938Z
UID:10000990-1771182000-1771189200@kursnagizycko.pl
SUMMARY:Autsajder - bluesowa historia | spektakl muzyczno-teatralny
DESCRIPTION:Nastoletni Joachim postanawia opuścić rodzinny dom i poświęcić się przygodzie oraz włóczędze\, nie zdając sobie sprawy z czyhających zagrożeń oraz nieuchronności upływającego czasu.\nAustajer to epicka muzyczna opowieść o emocjach wpływających na nasze decyzje i późniejsze ich konsekwencje o poszukiwaniu własnej drogi\, o dojrzewaniu\, upadku\, zrozumieniu i akceptacji.\nMuzyka w spektaklu stanowi nie tylko łącznik pomiędzy historiami\, ale również dosłowny komentarz.\nWidzowie usłyszą przeboje takich artystów jak Pink Floyd\, Jimi Hendrix\, Ray Charles\, Breakout\, Dżem\, The Doors czy John Lee Hooker.\nWybrane utwory idealnie odzwierciedlają rozwój postaci. W tym spektaklu tytułowy autsajder występuje na trzech etapach swojego życia.\nW rolę główną wcielił się Mariusz Ostrowski w rolach pozostałych wystąpią Aleksandra Idkowska oraz Maciej Maciejewski.\nW spektaklu zaśpiewają wybitni Polscy Wokaliści Marek Piekarczyk\, Maciej Balcar\, Damian Ukeje.\nBILETY 140 zł\nrezerwacje biletów: gok@wydminy.pl \, 84 421 01 42\nlub osobiście w GOK Wydminy\, pl. Rynek 1/3 Wydminy
URL:https://kursnagizycko.pl/kalendarz-wydarzen/autsajder-bluesowa-historia-spektakl-muzyczno-teatralny/
LOCATION:GOK Wydminy\, pl. Rynek 1/3\, Wydminy\, 11-510\, Poland
CATEGORIES:wydarzenia
END:VEVENT
BEGIN:VEVENT
DTSTART;TZID=Europe/Warsaw:20260124T190000
DTEND;TZID=Europe/Warsaw:20260124T190000
DTSTAMP:20260424T180500
CREATED:20251212T093538Z
LAST-MODIFIED:20251212T093538Z
UID:10000969-1769281200-1769281200@kursnagizycko.pl
SUMMARY:Wróć do Sorrento - recital o życiu Anny German
DESCRIPTION:Z okazji Dnia Babci i Dziadka zapraszamy na podróż do lat 70tych i muzyczna historie z Anną German w tle. \nSpektakl pt. „Wróć do Sorrento?- recital o życiu Anny German” to osobiste wyznanie artystki oparte na jej wspomnieniach. Zawiera najważniejsze historie z jej życia w towarzyszącej im oprawie muzycznej najważniejszych piosenek podczas kariery. Widzowie zostaną przeniesieni pół wieku wstecz i będą mieli okazję poznać postać Anny German personalnie dzięki pierwszoosobowej formie przekazu\, przypomnieć sobie artystkę\, która na zawsze wpłynęła na polską piosenkę. Wskrzesić pamięć o niej w czterdziestolecie odejścia\, przypomnieć sobie znaczenie tekstów do dzisiaj aktualnych.\nTekstów niezwykle ważnych dla Polaków. Ujrzeć ich sens w kontekście życia Anny\, a także w kontekście życia obecnego.\nJest to osobiste wyznanie złożone z największych przebojów\, śpiewanych w trzech językach\, wypełnionych historiami opartymi na wspomnieniach artystki. Na scenie można usłyszeć piękne melodie zagrane przez pianistę\, aranżera – Karola Szmukstę\, absolwenta Akademii Muzycznej w Białymstoku i młodą aktorkę scen muzycznych\, absolwentkę Studium Musicalowego Capitol we Wrocławiu\, studentkę Akademii Teatralnej w Białymstoku – Martę Wieczorkiewicz\, wcielającą się w postać Anny German. \n-WEJŚCIE BEZPŁATNE-
URL:https://kursnagizycko.pl/kalendarz-wydarzen/wroc-do-sorrento-recital-o-zyciu-anny-german/
LOCATION:GOK Wydminy\, pl. Rynek 1/3\, Wydminy\, 11-510\, Poland
CATEGORIES:wydarzenia
END:VEVENT
END:VCALENDAR