BEGIN:VCALENDAR
VERSION:2.0
PRODID:-//Kurs na Giżycko - ECPv6.1.3//NONSGML v1.0//EN
CALSCALE:GREGORIAN
METHOD:PUBLISH
X-WR-CALNAME:Kurs na Giżycko
X-ORIGINAL-URL:https://kursnagizycko.pl
X-WR-CALDESC:Events for Kurs na Giżycko
REFRESH-INTERVAL;VALUE=DURATION:PT1H
X-Robots-Tag:noindex
X-PUBLISHED-TTL:PT1H
BEGIN:VTIMEZONE
TZID:Europe/Warsaw
BEGIN:DAYLIGHT
TZOFFSETFROM:+0100
TZOFFSETTO:+0200
TZNAME:CEST
DTSTART:20260329T010000
END:DAYLIGHT
BEGIN:STANDARD
TZOFFSETFROM:+0200
TZOFFSETTO:+0100
TZNAME:CET
DTSTART:20261025T010000
END:STANDARD
END:VTIMEZONE
BEGIN:VEVENT
DTSTART;TZID=Europe/Warsaw:20260411T110000
DTEND;TZID=Europe/Warsaw:20260412T180000
DTSTAMP:20260425T015646
CREATED:20260326T115621Z
LAST-MODIFIED:20260326T115621Z
UID:10001167-1775905200-1776016800@kursnagizycko.pl
SUMMARY:Festiwal Dmuchańców
DESCRIPTION:🎈 FESTIWAL DMUCHAŃCÓW WRACA! 🎈\nWracamy z kolejną dawką niesamowitej zabawy – będzie się działo!\n📍 Hala sportowa Parku Wodnego w Wilkasach\n📅 11–12 kwietnia 2026\n⏰ 11:00–18:00\n🔥 Na miejscu czeka na Was prawdziwa kraina dmuchańców i niekończącej się zabawy!\nCennik:\n• 17 zł – godzina zabawy\n• 39 zł – cały dzień bez limitu!\n*Cena za cały dzień dotyczy jednego wejścia\, bilet jest ważny do momentu opuszczenia obiektu hali sportowej.\nWchodzimy na halę bez obuwia!\nDla rodziców przygotowana jest specjalna strefa relaksu – kawa\, chwila oddechu i obserwowanie świetnej zabawy dzieci (strefa płatna)\nZabierz rodzinę\, znajomych i wpadajcie na najlepszą imprezę tej wiosny!\nDo zobaczenia!
URL:https://kursnagizycko.pl/kalendarz-wydarzen/festiwal-dmuchancow/
LOCATION:Park Wodny Wilkasy\, ul. Olsztyńska 29A\, Wilkasy\, warmińsko-mazurskie\, 11-500\, Poland
CATEGORIES:wydarzenia
END:VEVENT
BEGIN:VEVENT
DTSTART;TZID=Europe/Warsaw:20260330T170000
DTEND;TZID=Europe/Warsaw:20260330T170000
DTSTAMP:20260425T015646
CREATED:20260323T095916Z
LAST-MODIFIED:20260323T095916Z
UID:10001110-1774890000-1774890000@kursnagizycko.pl
SUMMARY:Teatr przy stoliku - "Serenada pod bramą"
DESCRIPTION:Z okazji Międzynarodowego Dnia Teatru zapraszamy na kolejne spotkanie z aktorami Teatru im. Stefana Jaracza z Olsztyna z cyklu „Teatr przy Stoliku”. W tym roku zebrani będą mogli obejrzeć sztukę „Serenada pod bramą”.\nCzytają i śpiewają: Wiesława Szymańska i Marian Czarkowski\nScenariusz: Wiesława Szymańska\nWprowadzenie: Elżbieta Lenkiewicz\nWychowani na ulicy\, w cieniu latarni\, wśród muzycznej rynsztokracji spod znaku klucza francuskiego i wytrycha basowego\, zakochani w piosenkach Czarna Mańka\, Ruda Felka\, Felek Zdankiewicz\, Złodziej\, Zdradzona Hanka\, Policjant z krawężnika czy Pucybut marzący o milionach. To obraz zaniedbanego podwórka\, folkloru warszawskiego Powiśla\, Pragi oraz Czerniakowa\, słowem obrzeży eleganckiej stolicy między- i powojnia. Tak celnie całe to szemrane towarzystwo określił bard miejskiego folkloru Stanisław Bielanek\, niezrównany następca Stanisława Grzesiuka\, który jak mało kto potrafił uwiecznić w swych podwórkowych balladach wzloty i upadki tzw. marginesu społecznego – ich wielkie miłości\, wielkie zbrodnie w afekcie\, komiczne spotkania i romantyczne spacery. Opisania tego niezwykłego wielkomiejskiego folkloru podjęli się m.in. Julian Tuwim\, Marian Hemar\, Ludwik Starski\, Stefan Wiechecki „Wiech”\, Stanisław Grzesiuk\, Jerzy Jurandot\, jak i anonimowi twórcy.\nWiesława Szymańska z dialogów\, skeczów\, monologów oraz piosenek z tamtych lat ułożyła opowieść o miłości w środowisku \, które jak żadne inne umiało żyć i kochać ekstremalnie.\nZapraszamy 30 marca 2026\, początek o godz. 17.00.\nUwaga!!! Liczba miejsc ograniczona !!! Bezpłatne wejściówki do odbioru od 25 marca 2026 w GOKiR Wilkasy
URL:https://kursnagizycko.pl/kalendarz-wydarzen/teatr-przy-stoliku-serenada-pod-brama/
LOCATION:GOKiR Wilkasy\, ul. Olsztyńska 54\, Wilkasy\, warmińsko-mazurskie\, 11-500\, Poland
CATEGORIES:wydarzenia
END:VEVENT
BEGIN:VEVENT
DTSTART;TZID=Europe/Warsaw:20260327T180000
DTEND;TZID=Europe/Warsaw:20260327T180000
DTSTAMP:20260425T015646
CREATED:20260316T110158Z
LAST-MODIFIED:20260316T110158Z
UID:10001065-1774634400-1774634400@kursnagizycko.pl
SUMMARY:Spektakl "Nic wiecznego na świecie - radość się z troską plecie"
DESCRIPTION:Członkowie grupy teatralnej Klubu Seniora Gminy Giżycko serdecznie zapraszają na spacer z satyrą i kabaretem pod rękę. Z okazji Międzynarodowego Dnia Teatru 2026 zaprezentują tym razem spektakl „Nic wiecznego na świecie – radość się z troską plecie” razem z piosenkami. Premiera 27 marca o godz. 18.00 w GOKiR Wilkasy\, a dwa dni później\, 29 marca o godz. 16.00 spotkamy się z początkującymi aktorami w świetlicy wiejskiej w Bystrym. Scenariusz i reżyseria sztuki Anna Kajpust\, oprawa muzyczna Dariusz Jodko.\nPrzygotowując satyryczno-kabaretowe spotkanie czerpali pełnymi garściami z przebogatego dorobku kultury polskiej. Będzie to kompilacja znanych i mniej znanych utworów w typowo amatorskim wykonaniu. Będą dialogi\, skecze\, piosenki\, homoreski i miniaktóweczki. Usłyszą Państwo teksty twórców przedwojennych oraz bardziej współczesnych: Konrada Toma\, Stefanii Grodzieńskiej\, Jerzego Jurandota\, Jeremiego Przybory\, Agnieszki Osieckiej\, Juliana Tuwima\, Konstantego Ildefonsa Gałczyńskiego\, Marii Czubaszek i innych.\nA na scenie zobaczymy Ewę Górską\, Teresę Krupską\, Helenę Kłosowską\, Agę Fenską\, Halinę Karczewską\, Marzenę Komornicką\, Mirę Jurę\, Teresę Rogowską\, Lilię Rechimbach\, Marię Zięty\, Ewę Zalewską\, Teresę Santo\, Irenę i Zbigniewa Sadosiów\, Jana Szczerbę i Stanisława Kajpusta. Jeśli potrzebujecie chwili wytchnienia i odrobiny radości\, zapraszamy.
URL:https://kursnagizycko.pl/kalendarz-wydarzen/spektakl-nic-wiecznego-na-swiecie-radosc-sie-z-troska-plecie/
LOCATION:GOKiR Wilkasy\, ul. Olsztyńska 54\, Wilkasy\, warmińsko-mazurskie\, 11-500\, Poland
CATEGORIES:wydarzenia
END:VEVENT
BEGIN:VEVENT
DTSTART;VALUE=DATE:20260320
DTEND;VALUE=DATE:20260323
DTSTAMP:20260425T015646
CREATED:20260309T094915Z
LAST-MODIFIED:20260309T094915Z
UID:10001053-1773964800-1774223999@kursnagizycko.pl
SUMMARY:Wielki Festiwal Wiosny w Wilkasach
DESCRIPTION:🌸🎉 WIELKI FESTIWAL WIOSNY W WILKASACH 🎉🌸\nZapraszamy na trzy dni pełne zabawy\, muzyki i rodzinnej atmosfery!\n📅 20–22 marca 2026\n🎤 20 marca | godz. 18:00\nKONCERT „NEONOWE DŹWIĘKI”\n📍 Sala widowiskowa GOKiR Wilkasy\nNa scenie wystąpią artyści GOKiR Wilkasy:\n✨ Mini Fantazja\n✨ Fantazja\n✨ Złote Nutki\n✨ ZPiT Niegocin\n🔥 Wielki debiut na scenie!\nZespół Artura Pilichiewicza działający w GOKiR Wilkasy.\n🎈 21–22 marca | godz. 11:00–18:00\nOGROMNA STREFA DMUCHAŃCÓW DLA DZIECI\n📍 Hala sportowa Parku Wodnego w Wilkasach\nCzekają na Was wielkie zjeżdżalnie\, tory przeszkód i mnóstwo świetnej zabawy!\n💰 Cennik:\n17 zł – godzina\n39 zł – cały dzień\n☕ Dla rodziców przygotowaliśmy strefę relaksu z kawą i słodkościami.\n☀️ Pogoda nie ma znaczenia – wydarzenie odbywa się w hali!\nZabierz rodzinę i znajomych. Przywitajmy razem wiosnę w Wilkasach! 🌷
URL:https://kursnagizycko.pl/kalendarz-wydarzen/wielki-festiwal-wiosny-w-wilkasach/
LOCATION:GOKiR Wilkasy\, ul. Olsztyńska 54\, Wilkasy\, warmińsko-mazurskie\, 11-500\, Poland
CATEGORIES:wydarzenia
END:VEVENT
BEGIN:VEVENT
DTSTART;TZID=Europe/Warsaw:20260315T100000
DTEND;TZID=Europe/Warsaw:20260315T100000
DTSTAMP:20260425T015646
CREATED:20260212T102944Z
LAST-MODIFIED:20260212T102944Z
UID:10001011-1773568800-1773568800@kursnagizycko.pl
SUMMARY:Gminny Turniej Piłki Koszykowej o Puchar Wójta Gminy Giżycko
DESCRIPTION:Gminny Turniej Piłki Koszykowej o Puchar Wójta Gminy Giżycko.\nGminny Ośrodek Kultury i Rekreacji w Wilkasach zaprasza do udziału w Gminnym Turnieju Piłki Koszykowej o Puchar Wójta Gminy Giżycko\, który odbędzie się 15 marca 2026 roku o godz. 10:00 w hali sportowej Parku Wodnego w Wilkasach.\nW turnieju mogą wziąć udział drużyny reprezentujące sołectwa gminy Giżycko oraz giżyckie szkoły średnie. Zespół powinien liczyć minimum pięciu oraz maksymalnie dwunastu zawodników.\nTurniej zostanie rozegrany w systemie dwóch grup po trzy drużyny w każdej\, zależne to jest od liczby zgłoszeń (dopuszczony system gier każdy z każdym).\nDo półfinału zakwalifikują się po dwie drużyny z każdej grupy\, które uzyskają najlepszy bilans.\nPółfinały zostaną rozegrane w systemie pucharowym: A1 – B2\, B1 – A2\, później będzie przeprowadzony mecz o 3. miejsce oraz finał.\nKażdy uczestnik turnieju otrzyma pamiątkowy medal. Dla najlepszych drużyn przewidziano puchary\, w tym Puchar Wójta Gminy Giżycko.\nZgłoszenia należy przesyłać do 6 marca 2026 roku na adres e-mail gokir@ugg.pl. W przypadku uczestników niepełnoletnich wymagane jest dostarczenie pisemnej zgody rodzica lub opiekuna prawnego.\nSzczegółowy regulamin turnieju oraz formularz zgłoszeniowy dostępny jest na stronie ugg.pl\nDodatkowe informacje można uzyskać pod numerem telefonu 797 275 052.
URL:https://kursnagizycko.pl/kalendarz-wydarzen/gminny-turniej-pilki-koszykowej-o-puchar-wojta-gminy-gizycko/
LOCATION:Park Wodny Wilkasy\, ul. Olsztyńska 29A\, Wilkasy\, warmińsko-mazurskie\, 11-500\, Poland
CATEGORIES:wydarzenia
END:VEVENT
BEGIN:VEVENT
DTSTART;TZID=Europe/Warsaw:20260306T190000
DTEND;TZID=Europe/Warsaw:20260306T190000
DTSTAMP:20260425T015646
CREATED:20260223T095416Z
LAST-MODIFIED:20260223T100055Z
UID:10001021-1772823600-1772823600@kursnagizycko.pl
SUMMARY:Dzień Kobiet | koncert wśrod kwiatów i świec | Piotr Karpienia & Rafał Lemieszko
DESCRIPTION:Międzynarodowy Dzień Kobiet w GOKiR Wilkasy \nGminny Ośrodek Kultury i Rekreacji w Wilkasach serdecznie zaprasza kobiety na koncert z okazji Międzynarodowego Dnia Kobiet.\nWystąpią:\nPiotr Karpienia – wokal\, gitara\nRafał Lemieszko – bas \nKoncert odbędzie się 6 marca 2026 roku o godz. 19:00 w GOKiR Wilkasy.\nWstęp bezpłatny.\nBezpłatne wejściówki będą do odbioru w GOKiR Wilkasy od 2 marca 2026 roku\, od godz. 8:00.\nLiczba miejsc ograniczona.
URL:https://kursnagizycko.pl/kalendarz-wydarzen/dzien-kobiet-koncert-wsrod-kwiatow-i-swiec-piotr-karpienia-rafal-lemieszko/
LOCATION:GOKiR Wilkasy\, ul. Olsztyńska 54\, Wilkasy\, warmińsko-mazurskie\, 11-500\, Poland
CATEGORIES:wydarzenia
END:VEVENT
BEGIN:VEVENT
DTSTART;TZID=Europe/Warsaw:20260304T170000
DTEND;TZID=Europe/Warsaw:20260304T170000
DTSTAMP:20260425T015646
CREATED:20260226T091023Z
LAST-MODIFIED:20260226T091023Z
UID:10001036-1772643600-1772643600@kursnagizycko.pl
SUMMARY:Wernisaż wystawy malarstwa Marzeny Kurnatowskiej Wiśniewskiej "Powrót żurawi"
DESCRIPTION:Serdecznie zapraszamy na wernisaż wystawy malarstwa Marzeny Kurnatowskiej Wiśniewskiej. Obrazy pod wspólnym tytułem „Powrót żurawi” będą prezentowane w galerii „Pod lipą” Gminnego Ośrodka Kultury i Rekreacji w Wilkasach. Na otwarcie ekspozycji zapraszamy już 4 marca o godz. 17.00.\nMotto artystki to „Życie jest sztuką a sztuka życiem”. Mieszkanka Giżycka kształciła się na Wydziale Sztuk Pięknych Uniwersytetu Mikołaja Kopernika w Toruniu. Swe prace wystawiała m.in. w Liverpoolu w Egge Speace Gallery\, gdy miasto było Europejską Stolicą Kultury. Najchętniej maluje na zamówienie\, dostosowując obrazy do miejsca i osobowości odbiorcy oraz do jego potrzeb duchowych. W Giżycku jej prace można oglądać w kościołach\, kawiarence salezjańskiej przy sanktuarium św. Brunona\, na muralu kawaleryjskim 15 Giżyckiej Brygady Zmechanizowanej\, w Klubie Wojskowym Brygady (tam eksponowana jest wystawa „Strzelcy Konni”) oraz w Galerii Sztuki Schron na placu Grunwaldzkim. Obrazy artystki przedstawiają głównie abstrakcję\, konie\, mazurską przyrodę\, a wielką ciekawostką jest monochromatyczna seria o tematyce muzycznej. W związku z zalaniem pracowni twórczyni\, która niedawno ją dotknęła\, część kolekcji przeznaczona jest na sprzedaż.
URL:https://kursnagizycko.pl/kalendarz-wydarzen/wernisaz-wystawy-malarstwa-marzeny-kurnatowskiej-wisniewskiej-powrot-zurawi/
LOCATION:GOKiR Wilkasy\, ul. Olsztyńska 54\, Wilkasy\, warmińsko-mazurskie\, 11-500\, Poland
CATEGORIES:wydarzenia
END:VEVENT
BEGIN:VEVENT
DTSTART;TZID=Europe/Warsaw:20260213T180000
DTEND;TZID=Europe/Warsaw:20260213T180000
DTSTAMP:20260425T015646
CREATED:20260205T085254Z
LAST-MODIFIED:20260205T085254Z
UID:10001000-1771005600-1771005600@kursnagizycko.pl
SUMMARY:Walentynki w GOKiR Wilkasy | koncert zespołu oJ Tam
DESCRIPTION:💖 Walentynki 2026 w Wilkasach 💖\nZapraszamy na koncert zespołu oJ TaM 🎶 \nCzeka Was wieczór z dobrą muzyką i walentynkowym klimatem.\n📍 Gminny Ośrodek Kultury i Rekreacji w Wilkasach\n🗓 13 lutego 2026 r.\n⏰ godz. 18:00\n🎟 Wstęp bezpłatny\nWejściówki do odbioru od 4 lutego\, od godz. 15:00\nw GOKiR Wilkasy\, ul. Olsztyńska 54
URL:https://kursnagizycko.pl/kalendarz-wydarzen/walentynki-w-gokir-wilkasy-koncert-zespolu-oj-tam/
LOCATION:GOKiR Wilkasy\, ul. Olsztyńska 54\, Wilkasy\, warmińsko-mazurskie\, 11-500\, Poland
CATEGORIES:wydarzenia
END:VEVENT
END:VCALENDAR