BEGIN:VCALENDAR
VERSION:2.0
PRODID:-//Kurs na Giżycko - ECPv6.1.3//NONSGML v1.0//EN
CALSCALE:GREGORIAN
METHOD:PUBLISH
X-ORIGINAL-URL:https://kursnagizycko.pl
X-WR-CALDESC:Events for Kurs na Giżycko
REFRESH-INTERVAL;VALUE=DURATION:PT1H
X-Robots-Tag:noindex
X-PUBLISHED-TTL:PT1H
BEGIN:VTIMEZONE
TZID:Europe/Warsaw
BEGIN:DAYLIGHT
TZOFFSETFROM:+0100
TZOFFSETTO:+0200
TZNAME:CEST
DTSTART:20260329T010000
END:DAYLIGHT
BEGIN:STANDARD
TZOFFSETFROM:+0200
TZOFFSETTO:+0100
TZNAME:CET
DTSTART:20261025T010000
END:STANDARD
END:VTIMEZONE
BEGIN:VEVENT
DTSTART;VALUE=DATE:20260417
DTEND;VALUE=DATE:20260418
DTSTAMP:20260425T001018
CREATED:20260223T093531Z
LAST-MODIFIED:20260223T093531Z
UID:10001018-1776384000-1776470399@kursnagizycko.pl
SUMMARY:Koncert - Gabriel Fleszar
DESCRIPTION:🔥#KONCERT NA ŻYWO! 🔥\nJuż wkrótce wyjątkowy wieczór z jednym z najbardziej charakterystycznych głosów polskiej sceny muzycznej! \n🎤 #Gabriel #Fleszar – znany i ceniony wokalista\, którego przeboje:\n„Kroplą deszczu”\, „Bilet do nieba” oraz „Kto panem kto sługą” zna cała Polska!\nTo nie tylko wokalista – to także gitarzysta i pianista\, autor tekstów\, kompozytor\, producent\, poeta oraz aktor filmowy (główna rola w „Sezonie na leszcza” w reż. Bogusława Lindy).\nArtysta wydał m.in. albumy „Niespokojny”\, „Niespokojny 2” oraz „Pełnia”.\nW latach 2010–2020 był wokalistą rockowego zespołu Candida. Dziś występuje z zespołem\, solo oraz w akustycznym duecie – i gwarantuje ogrom emocji! \n✨ Czeka nas wieczór pełen wzruszeń\, energii i największych hitów na żywo!\n📌 Miejsce : Noce i Dnie\n🗓️17.04.2026\n🎟 Bilety: 100 zł\n📞 Rezerwacje: 506019591\nNie przegap tego wydarzenia – zabierz znajomych i przeżyj z nami muzyczne emocje na najwyższym poziomie!
URL:https://kursnagizycko.pl/kalendarz-wydarzen/koncert-gabriel-fleszar/
LOCATION:Noce i Dnie\, Pierkunowo 10A\, Giżycko\, 11-500\, Poland
CATEGORIES:wydarzenia
END:VEVENT
BEGIN:VEVENT
DTSTART;TZID=Europe/Warsaw:20260327T190000
DTEND;TZID=Europe/Warsaw:20260327T190000
DTSTAMP:20260425T001018
CREATED:20260223T115525Z
LAST-MODIFIED:20260223T115525Z
UID:10001030-1774638000-1774638000@kursnagizycko.pl
SUMMARY:Skiba Stand Up Comedy
DESCRIPTION:Halo halo Giżycko i okolice! 😁📣\nNadchodzi wieczór\, po którym:\n👉 będzie bolał brzuch\n👉 łzy polecą… ze śmiechu\n👉 a cenzura zrobi sobie wolne 😄\n🎤 #KrzysztofSkiba w nowym programie stand-up comedy 😂\n🔥 „Na ostro i bez cenzury” 🔥\n📅 27 marca 2026 (piątek)\n🕖 Start: 19:00\n📍 Hotel Noc i Dnie – Pierkunowo 10A\n🎟️ Bilety: 90 zł\n➡️ do kupienia w Puzzle Smaku (Giżycko)\n☎️ 506019591\nZapraszamy\, bo będzie się działo… i to nie po cichu 😁😁😁
URL:https://kursnagizycko.pl/kalendarz-wydarzen/skiba-stand-up-comedy/
LOCATION:Noce i Dnie\, Pierkunowo 10A\, Giżycko\, 11-500\, Poland
CATEGORIES:wydarzenia
END:VEVENT
BEGIN:VEVENT
DTSTART;TZID=Europe/Warsaw:20260307T200000
DTEND;TZID=Europe/Warsaw:20260307T200000
DTSTAMP:20260425T001018
CREATED:20260224T091138Z
LAST-MODIFIED:20260224T091138Z
UID:10001035-1772913600-1772913600@kursnagizycko.pl
SUMMARY:Gorący Dzień Kobiet z Pokazem Chippendales
DESCRIPTION:🌹✨ Gorący Dzień Kobiet w Restauracji Noce i Dnie! ✨🌹\nDziewczyny… szykuje się wieczór\, o którym będzie się mówić jeszcze długo 😍🔥\n📅 7 marca\n🕗 Start: 20:00\n🎧 DJ + zabawa do 1:00\n🍽️ Pyszne jedzenie\n🕺 Pokaz Chippendales\n💰 150 zł/os.\nZbierz ekipę przyjaciółek i wpadajcie na najbardziej zmysłowy wieczór tej wiosny! 🥂💋\n📞 Rezerwacje: 506 019 591 (liczba miejsc ograniczona!)
URL:https://kursnagizycko.pl/kalendarz-wydarzen/goracy-dzien-kobiet-z-pokazem-chippendales/
LOCATION:Noce i Dnie\, Pierkunowo 10A\, Giżycko\, 11-500\, Poland
CATEGORIES:wydarzenia
END:VEVENT
END:VCALENDAR