BEGIN:VCALENDAR
VERSION:2.0
PRODID:-//Kurs na Giżycko - ECPv6.1.3//NONSGML v1.0//EN
CALSCALE:GREGORIAN
METHOD:PUBLISH
X-WR-CALNAME:Kurs na Giżycko
X-ORIGINAL-URL:https://kursnagizycko.pl
X-WR-CALDESC:Events for Kurs na Giżycko
REFRESH-INTERVAL;VALUE=DURATION:PT1H
X-Robots-Tag:noindex
X-PUBLISHED-TTL:PT1H
BEGIN:VTIMEZONE
TZID:Europe/Warsaw
BEGIN:DAYLIGHT
TZOFFSETFROM:+0100
TZOFFSETTO:+0200
TZNAME:CEST
DTSTART:20260329T010000
END:DAYLIGHT
BEGIN:STANDARD
TZOFFSETFROM:+0200
TZOFFSETTO:+0100
TZNAME:CET
DTSTART:20261025T010000
END:STANDARD
END:VTIMEZONE
BEGIN:VEVENT
DTSTART;TZID=Europe/Warsaw:20260329T090000
DTEND;TZID=Europe/Warsaw:20260329T090000
DTSTAMP:20260424T225838
CREATED:20260223T101950Z
LAST-MODIFIED:20260223T101950Z
UID:10001027-1774774800-1774774800@kursnagizycko.pl
SUMMARY:Kiermasz Wielkanocny na Ryneczku w Miłkach
DESCRIPTION:🌸Ogłaszamy i zapraszamy ! Wiosenne miłe spotkanie\, z pisankami\, palmami i wielkanocnymi smakołykami🌿 Niebawem więcej szczegółów
URL:https://kursnagizycko.pl/kalendarz-wydarzen/kiermasz-wielkanocny-na-ryneczku-w-milkach/
LOCATION:Rynek w Miłkach\, Miłki\, 11-513\, Poland
CATEGORIES:wydarzenia
END:VEVENT
BEGIN:VEVENT
DTSTART;TZID=Europe/Warsaw:20260313T163000
DTEND;TZID=Europe/Warsaw:20260313T163000
DTSTAMP:20260424T225838
CREATED:20260309T094546Z
LAST-MODIFIED:20260309T094546Z
UID:10001052-1773419400-1773419400@kursnagizycko.pl
SUMMARY:Miłkowskie Kaziuki
DESCRIPTION:Miłkowskie Kaziuki🌸 Przed nami druga edycja rozśpiewanego święta\, które uświetnią swoim występem zespoły: Chór Moderato z Węgorzewkiego Centrum Kultury\, zespół Mazury ze Starych Juch\, Kalina I Marcinianki🌸 Wystąpią seniorzy z grupy teatralnej w sztuce: „Białe i czarne\, czyli jak Marcin diabły wykołysał”\nNa wydarzenie obowiązują zapisy pod nr. tel. 519 563 079
URL:https://kursnagizycko.pl/kalendarz-wydarzen/milkowskie-kaziuki/
LOCATION:Rydzewo
CATEGORIES:wydarzenia
END:VEVENT
END:VCALENDAR