BEGIN:VCALENDAR
VERSION:2.0
PRODID:-//Kurs na Giżycko - ECPv6.1.3//NONSGML v1.0//EN
CALSCALE:GREGORIAN
METHOD:PUBLISH
X-WR-CALNAME:Kurs na Giżycko
X-ORIGINAL-URL:https://kursnagizycko.pl
X-WR-CALDESC:Events for Kurs na Giżycko
REFRESH-INTERVAL;VALUE=DURATION:PT1H
X-Robots-Tag:noindex
X-PUBLISHED-TTL:PT1H
BEGIN:VTIMEZONE
TZID:Europe/Warsaw
BEGIN:DAYLIGHT
TZOFFSETFROM:+0100
TZOFFSETTO:+0200
TZNAME:CEST
DTSTART:20260329T010000
END:DAYLIGHT
BEGIN:STANDARD
TZOFFSETFROM:+0200
TZOFFSETTO:+0100
TZNAME:CET
DTSTART:20261025T010000
END:STANDARD
END:VTIMEZONE
BEGIN:VEVENT
DTSTART;TZID=Europe/Warsaw:20260422T180000
DTEND;TZID=Europe/Warsaw:20260422T180000
DTSTAMP:20260424T212815
CREATED:20260420T104233Z
LAST-MODIFIED:20260420T104233Z
UID:10001195-1776880800-1776880800@kursnagizycko.pl
SUMMARY:Koncert solistów\, orkiestry akordeonowej oraz Pawła Zagańczyka
DESCRIPTION:Zapraszamy na wyjątkowy koncert\, który będzie zwieńczeniem Giżyckich Spotkań Akordeonowych🥰\nWstęp wolny😊
URL:https://kursnagizycko.pl/kalendarz-wydarzen/koncert-solistow-orkiestry-akordeonowej-oraz-pawla-zaganczyka/
LOCATION:Państwowa Szkoła Muzyczna I st. w Giżycku\, ul. Kolejowa 22\, Giżycko\, warmińsko-mazurskie\, 11-500\, Poland
CATEGORIES:wydarzenia
ATTACH;FMTTYPE=image/jpeg:https://kursnagizycko.pl/wp-content/uploads/2026/04/psm.jpg
END:VEVENT
BEGIN:VEVENT
DTSTART;TZID=Europe/Warsaw:20260225T170000
DTEND;TZID=Europe/Warsaw:20260225T170000
DTSTAMP:20260424T212815
CREATED:20260223T094237Z
LAST-MODIFIED:20260223T094237Z
UID:10001019-1772038800-1772038800@kursnagizycko.pl
SUMMARY:Miłość w dźwiękach i słowie | muzyka & poezja
DESCRIPTION:🎶 Miłość w dźwiękach i słowie 🎶\nSerdecznie zapraszamy na wyjątkowy koncert\, podczas którego muzyka i poezja połączą się w jedną\, poruszającą opowieść o miłości. \nWystąpią:\n🎻 Krzysztof Koziatek – wiolonczela\n🎹 Zofia Antes – fortepian\n📖 Magdalena Kozakiewicz – recytacja\nW programie utwory mistrzów takich jak Bach\, Chopin\, Schubert\, Fauré\, Satie\, Saint-Saëns\, Massenet oraz Arvo Pärt – przeplatane słowem\, które pozwoli jeszcze głębiej przeżyć każdy dźwięk.\n📅 25 lutego\n🕔 Godzina 17:00
URL:https://kursnagizycko.pl/kalendarz-wydarzen/milosc-w-dzwiekach-i-slowie-muzyka-poezja/
LOCATION:Państwowa Szkoła Muzyczna I st. w Giżycku\, ul. Kolejowa 22\, Giżycko\, warmińsko-mazurskie\, 11-500\, Poland
CATEGORIES:wydarzenia
END:VEVENT
BEGIN:VEVENT
DTSTART;TZID=Europe/Warsaw:20260220T170000
DTEND;TZID=Europe/Warsaw:20260220T170000
DTSTAMP:20260424T212815
CREATED:20260217T092641Z
LAST-MODIFIED:20260217T092641Z
UID:10001017-1771606800-1771606800@kursnagizycko.pl
SUMMARY:Koncert - Wizje Ulotne
DESCRIPTION:Państwowa Szkoła Muzyczna w Giżycku zaprasza na koncert w wykonaniu uczniów PSM II st. w Olsztynie \n20.02.2026\, godz. 17:00\, wstęp wolny
URL:https://kursnagizycko.pl/kalendarz-wydarzen/koncert-wizje-ulotne/
LOCATION:Państwowa Szkoła Muzyczna I st. w Giżycku\, ul. Kolejowa 22\, Giżycko\, warmińsko-mazurskie\, 11-500\, Poland
CATEGORIES:wydarzenia
END:VEVENT
BEGIN:VEVENT
DTSTART;TZID=Europe/Warsaw:20260219T180000
DTEND;TZID=Europe/Warsaw:20260219T180000
DTSTAMP:20260424T212815
CREATED:20260217T092322Z
LAST-MODIFIED:20260217T092322Z
UID:10001016-1771524000-1771524000@kursnagizycko.pl
SUMMARY:Koncert DU-WOW | wiolonczela - fortepian
DESCRIPTION:Państwowa Szkoła Muzyczna w Giżycku zaprasza na koncert | 19.02.2026\, godz.  18:00 | wstęp wolny
URL:https://kursnagizycko.pl/kalendarz-wydarzen/koncert-du-wow-wiolonczela-fortepian/
LOCATION:Państwowa Szkoła Muzyczna I st. w Giżycku\, ul. Kolejowa 22\, Giżycko\, warmińsko-mazurskie\, 11-500\, Poland
CATEGORIES:wydarzenia
END:VEVENT
END:VCALENDAR