BEGIN:VCALENDAR
VERSION:2.0
PRODID:-//Kurs na Giżycko - ECPv6.1.3//NONSGML v1.0//EN
CALSCALE:GREGORIAN
METHOD:PUBLISH
X-WR-CALNAME:Kurs na Giżycko
X-ORIGINAL-URL:https://kursnagizycko.pl
X-WR-CALDESC:Events for Kurs na Giżycko
REFRESH-INTERVAL;VALUE=DURATION:PT1H
X-Robots-Tag:noindex
X-PUBLISHED-TTL:PT1H
BEGIN:VTIMEZONE
TZID:Europe/Warsaw
BEGIN:DAYLIGHT
TZOFFSETFROM:+0100
TZOFFSETTO:+0200
TZNAME:CEST
DTSTART:20260329T010000
END:DAYLIGHT
BEGIN:STANDARD
TZOFFSETFROM:+0200
TZOFFSETTO:+0100
TZNAME:CET
DTSTART:20261025T010000
END:STANDARD
END:VTIMEZONE
BEGIN:VEVENT
DTSTART;TZID=Europe/Warsaw:20260321T200000
DTEND;TZID=Europe/Warsaw:20260321T200000
DTSTAMP:20260425T015220
CREATED:20260206T083929Z
LAST-MODIFIED:20260206T083929Z
UID:10001004-1774123200-1774123200@kursnagizycko.pl
SUMMARY:St. Patrick's Day | Skankan & Molly Malone's
DESCRIPTION:Dzień Świętego Patryka w Giżycku!\n21 marca Porto Bistro zamieni się w zielone serce Irlandii! Przygotujcie się na wieczór pełen dobrej energii\, świetnej muzyki i wyjątkowej atmosfery irlandzkiego święta..\nNa żywo zagrają:\nSkankan – legenda ska/reggae/rock’n’roll z Sosnowca\nMolly Malone’s – irish folk/punk rock z Giżycka\nCzekają na Was irlandzkie brzmienia\, taneczne rytmy ska i pubowy klimat\, który porwie do zabawy każdego!\n21.03.2026 – Porto Bistro – Giżycko\, ul. Nadbrzeżna 5A\nStart: godz. 20:00 (bramka od godz. 19:00)\nBilety w cenie 50 zł w przedsprzedaży i 60 zł w dniu koncertu.\nZabierz znajomych i dołącz do wspólnego świętowania – niech Giżycko zazieleni się na ten jeden wieczór! 🍀
URL:https://kursnagizycko.pl/kalendarz-wydarzen/st-patricks-day-skankan-molly-malones/
LOCATION:Porto Bistro\, ul. Nadbrzeżna 5a\, Giżycko\, warmińsko-mazurskie\, 11-500\, Poland
CATEGORIES:wydarzenia
END:VEVENT
BEGIN:VEVENT
DTSTART;TZID=Europe/Warsaw:20260307T190000
DTEND;TZID=Europe/Warsaw:20260307T190000
DTSTAMP:20260425T015220
CREATED:20260223T115257Z
LAST-MODIFIED:20260223T115257Z
UID:10001029-1772910000-1772910000@kursnagizycko.pl
SUMMARY:Koncert - The Sunset | Dzień Kobiet w Porto
DESCRIPTION:Ich koncerty to moment\, w którym codzienność schodzi na drugi plan\, a pierwsze skrzypce gra energia\, rytm i czysta muzyczna radość!🤩\nJuż 7 marca o 19:00 zapraszamy do Porto Bistro na wieczór pełen brzmień\, które rozgrzeją Was lepiej niż marcowe słońce. 🌸\nThe Sunset to zespół\, który od 2020 roku konsekwentnie podbija serca publiczności. Ich znak rozpoznawczy? Potężne\, a jednocześnie niezwykle melodyjne brzmienie instrumentów dętych w połączeniu z dynamiczną perkusją. Trąbka\, saksofon\, sakshorn\, puzon\, tuba – wszystko to tworzy oryginalną mieszankę stylów i emocji.\nIch muzyczne korzenie sięgają ulic Giżycka\, gdzie przy zachodach słońca budowali swój klimat i nazwę. Dziś każdy ich występ to gwarancja świetnej atmosfery\, charyzmy i kontaktu z publicznością.\nSkład zespołu:\nTrąbka – Michał Kędzierski\nSaksofon – Patryk Grajewski\nSakshorn – Bartosz Szymański\nPuzon – Wojciech Zwolski\nTuba – Marek Samulak\nPerkusja – Paweł Kielar\nZróbcie sobie wyjątkowy\, kobiecy wieczór – zabierzcie przyjaciółki i wpadajcie do nas na muzykę na żywo\, dobre jedzenie i świetny klimat. 🌅\n7.03.2026\nStart: 19:00\nWstęp: 30 zł
URL:https://kursnagizycko.pl/kalendarz-wydarzen/koncert-the-sunset-dzien-kobiet-w-porto/
LOCATION:Porto Bistro\, ul. Nadbrzeżna 5a\, Giżycko\, warmińsko-mazurskie\, 11-500\, Poland
CATEGORIES:wydarzenia
END:VEVENT
END:VCALENDAR