BEGIN:VCALENDAR
VERSION:2.0
PRODID:-//Kurs na Giżycko - ECPv6.1.3//NONSGML v1.0//EN
CALSCALE:GREGORIAN
METHOD:PUBLISH
X-ORIGINAL-URL:https://kursnagizycko.pl
X-WR-CALDESC:Events for Kurs na Giżycko
REFRESH-INTERVAL;VALUE=DURATION:PT1H
X-Robots-Tag:noindex
X-PUBLISHED-TTL:PT1H
BEGIN:VTIMEZONE
TZID:Europe/Warsaw
BEGIN:DAYLIGHT
TZOFFSETFROM:+0100
TZOFFSETTO:+0200
TZNAME:CEST
DTSTART:20260329T010000
END:DAYLIGHT
BEGIN:STANDARD
TZOFFSETFROM:+0200
TZOFFSETTO:+0100
TZNAME:CET
DTSTART:20261025T010000
END:STANDARD
END:VTIMEZONE
BEGIN:VEVENT
DTSTART;TZID=Europe/Warsaw:20260409T170000
DTEND;TZID=Europe/Warsaw:20260409T170000
DTSTAMP:20260424T230244
CREATED:20260323T095636Z
LAST-MODIFIED:20260323T095636Z
UID:10001109-1775754000-1775754000@kursnagizycko.pl
SUMMARY:Wernisaż "Bestiariusz" | malarstwo akrylowe i rysunek tuszowy | Sebastian Dębski
DESCRIPTION:Serdecznie zapraszamy na wyjątkowy wernisaż pt. BESTIARIUSZ – malarstwo akrylowe i rysunek tuszowy – Sebastian Dębski 9.04.2026r. o godz. 17:00 w Oranżerii Regionalny Park Edukacji\, Kultury i Turystyki w Rynie 🦸\nWystawa\, gdzie magia kryje się tuż pod powierzchnią rzeczywistości. Wystarczy jedynie chęć\, by samemu ją zobaczyć. \nInformacje o autorze prac:\nSebastian Dębski – grafik\, malarz i rysownik. Absolwent szkoły artystycznej w Łomży.\nW swojej twórczości czerpie z motywów średniowiecza\, fantastyki\, oraz gier fabularnych (RPG)\, budując obrazy o mrocznej\, introspekcyjnej atmosferze. Łączy elementy realizmu z celową deformacją formy\, eksponując widoczną fakturę\, linię i ślad narzędzia jako integralną część kompozycji. W grafice świadomie odwołuje się do estetyki i form charakterystycznych dla podejmowanego tematu\, podporządkowując kompozycję jego treści i nastrojowi. \nZapraszamy 🤗
URL:https://kursnagizycko.pl/kalendarz-wydarzen/wernisaz-bestiariusz-malarstwo-akrylowe-i-rysunek-tuszowy-sebastian-debski/
LOCATION:Regionalny Park Edukacji\, Kultury i Turystyki w Rynie\, ul. Mikołaja Kopernika 16\, Ryn\, warmińsko-mazurskie\, 11-520\, Poland
CATEGORIES:wydarzenia
END:VEVENT
BEGIN:VEVENT
DTSTART;TZID=Europe/Warsaw:20260321T100000
DTEND;TZID=Europe/Warsaw:20260321T100000
DTSTAMP:20260424T230244
CREATED:20260213T091832Z
LAST-MODIFIED:20260213T091832Z
UID:10001013-1774087200-1774087200@kursnagizycko.pl
SUMMARY:Jarmark Wielkanocny w Rynie
DESCRIPTION:Zapraszamy na Jarmark Wielkanocny w Rynie\, który odbędzie się 21 marca 2026 r. na Targowisku Miejskim. To idealna okazja\, by poczuć pierwsze promienie wiosny\, znaleźć świąteczne inspiracje i spędzić czas w rodzinnej atmosferze.\nW programie m.in.:\n🌸 kiermasz rozmaitości\n📸 fotościanka 3D\n🦙 zagroda z alpakami i stoisko Alpakadabra\n🎨 warsztaty rękodzielnicze\n🐰 odwiedziny zajączka wielkanocnego\nSpotkajmy się\, by wspólnie powitać wiosnę w Rynie! 💚🌼
URL:https://kursnagizycko.pl/kalendarz-wydarzen/jarmark-wielkanocny-w-rynie/
LOCATION:Targowisko Miejskie w Rynie\, Plac Wolności 3\, Ryn\, Ryn\, 11-520\, Poland
CATEGORIES:wydarzenia
END:VEVENT
BEGIN:VEVENT
DTSTART;VALUE=DATE:20260320
DTEND;VALUE=DATE:20260322
DTSTAMP:20260424T230244
CREATED:20260303T090918Z
LAST-MODIFIED:20260303T090918Z
UID:10001040-1773964800-1774137599@kursnagizycko.pl
SUMMARY:Dzień czytania Tolkiena
DESCRIPTION:✨ Dzień Czytania Tolkiena 2026 – Ryn & Tołkiny ✨\n📅 20–21 marca 2026 r.\nZapraszamy wszystkich miłośników twórczości J.R.R. Tolkiena na wyjątkowe\, dwudniowe święto literatury\, wyobraźni i Śródziemia!\n📍 20.03 (piątek) – Ryn\nRegionalny Park Edukacji\, Kultury i Turystyki w Rynie\n(ul. M. Kopernika 16)\nW programie m.in.:\n🔹 otwarcie z zespołem „Za Progiem”\n🔹 premiera fanzinu\n🔹 panel z artystami\n🔹 spotkania z gośćmi świata fantastyki\n🔹 koncert harfistki Barbary Karlik\n🎟 Bezpłatne wejściówki dostępne od 9.03.2026 r.\n📍 21.03 (sobota) – Tołkiny\nKościół pw. Matki Bożej Ostrobramskiej\n🔹 spotkanie z prof. Michałem „ML” Leśniewskim\n🔹 rozmowa z dr Markiem Gumkowskim\n🔹 wykład Dominika Wojciechowskiego (Tolkien World)\nTo dwa dni pełne rozmów\, inspiracji i wspólnego zanurzenia się w świat elfów\, hobbitów i wielkich opowieści.\nDo zobaczenia! 🌿📖
URL:https://kursnagizycko.pl/kalendarz-wydarzen/dzien-czytania-tolkiena/
LOCATION:Regionalny Park Edukacji\, Kultury i Turystyki w Rynie\, ul. Mikołaja Kopernika 16\, Ryn\, warmińsko-mazurskie\, 11-520\, Poland
CATEGORIES:wydarzenia
END:VEVENT
BEGIN:VEVENT
DTSTART;TZID=Europe/Warsaw:20260308T160000
DTEND;TZID=Europe/Warsaw:20260308T160000
DTSTAMP:20260424T230244
CREATED:20260213T091629Z
LAST-MODIFIED:20260213T091629Z
UID:10001012-1772985600-1772985600@kursnagizycko.pl
SUMMARY:Koncert z okazji Dnia Kobiet | EDEIN - Gwiazdy Hollywood. Przeboje Muzyki Filmowej
DESCRIPTION:Już 8 marca zapraszamy na wyjątkowy koncert z okazji Dnia Kobiet i Mężczyzn – „EDEIN – Gwiazdy Hollywood. Przeboje Muzyki Filmowej”. To muzyczna podróż przez najsłynniejsze filmowe melodie\, pełna emocji\, blasku i kinowej magii.\nNa scenie wystąpią Ewa Alchimowicz-Wójcik – sopranistka\, wokalistka i pedagog\, oraz Jacek Wójcik – perkusista\, kompozytor i producent muzyczny. Artyści mają na swoim koncie setki koncertów\, nagrania płytowe\, współpracę z filharmoniami i operą oraz liczne nagrody i stypendia przyznane m.in. przez Ministra Kultury\, Prezydenta RP i marszałków województw.\n📅 8.03.2026 (niedziela)\n🕓 godz. 16:00\n📍 Sala Widowiskowa RPEKiT w Rynie\n🎟 Bezpłatne wejściówki do odbioru od 27.02 od godz. 10:00 w Bibliotece\nZróbcie sobie (i bliskim) piękny\, muzyczny prezent na święto 🌹🎬
URL:https://kursnagizycko.pl/kalendarz-wydarzen/koncert-z-okazji-dnia-kobiet-edein-gwiazdy-hollywood-przeboje-muzyki-filmowej/
LOCATION:Regionalny Park Edukacji\, Kultury i Turystyki w Rynie\, ul. Mikołaja Kopernika 16\, Ryn\, warmińsko-mazurskie\, 11-520\, Poland
CATEGORIES:wydarzenia
END:VEVENT
BEGIN:VEVENT
DTSTART;TZID=Europe/Warsaw:20260306T170000
DTEND;TZID=Europe/Warsaw:20260306T190000
DTSTAMP:20260424T230244
CREATED:20260224T090324Z
LAST-MODIFIED:20260224T090324Z
UID:10001033-1772816400-1772823600@kursnagizycko.pl
SUMMARY:Holistyczne Warsztaty na Dzień Kobiet
DESCRIPTION:Zapraszamy Was na wyjątkowe\, 2-godzinne spotkanie pełne relaksu\, wiedzy i kobiecej energii 💚\n📅 6 marca 2026\n⏰ Godz. 17:00\n📍 Sala konferencyjna II piętro RPKiT w Rynie\, ul. M. Kopernika 16\nZaplanuj sobie czas tylko dla siebie i spędź go w inspirującym kobiecym gronie. Czeka na Ciebie mnóstwo przyjemnych rytuałów\, praktycznych wskazówek i pozytywnej energii ✨\nSprawdź poniżej program 🔥🎁🍀👇\nLiczba miejsc jest ograniczona – nie zwlekaj!\n📞 Zapisy: 607 100 123\nZrób sobie prezent na Dzień Kobiet i spędź ten czas w atmosferze wsparcia\, inspiracji i dobrej energii 🌸\nI oczywiście nie zapomnij zabrać ze sobą swojej przyjaciółki!👯‍♀️😉❤️\nDo zobaczenia niebawem!💕
URL:https://kursnagizycko.pl/kalendarz-wydarzen/holistyczne-warsztaty-na-dzien-kobiet/
LOCATION:Regionalny Park Edukacji\, Kultury i Turystyki w Rynie\, ul. Mikołaja Kopernika 16\, Ryn\, warmińsko-mazurskie\, 11-520\, Poland
CATEGORIES:wydarzenia
END:VEVENT
BEGIN:VEVENT
DTSTART;TZID=Europe/Warsaw:20260214T170000
DTEND;TZID=Europe/Warsaw:20260214T170000
DTSTAMP:20260424T230244
CREATED:20260126T095227Z
LAST-MODIFIED:20260126T095227Z
UID:10000992-1771088400-1771088400@kursnagizycko.pl
SUMMARY:Koncert Walentynkowy "Magiczna Opera"
DESCRIPTION:Zapraszamy na wyjątkowe wydarzenie! W Walentynki 14.02.26r.\, o godz. 17:00 w sali widowiskowej „Magiczna Opera” – reżyserowany koncert w formie komediowego spektaklu operetkowo – musicalowego. Na scenie pojawi się 6 osób: Barbara Lewicka (sopran) jako Grażyna\, Kamil Pękala (baryton) jako Janusz oraz 4 osobowy zespół Artis. Podczas przedstawienia można będzie usłyszeć 16 przebojów muzyki światowej takich kompozytorów jak: A.Vivaldi\, G.Puccini\, J.S. Brahms\, J.Strauss\, F.Lehar\, I.Kalman oraz zespołów: Queen\, Abba i Europe.\nBilety w cenie 25 zł do nabycia na naszej stronie www.rpekit.pl/kino/ oraz w kasie stacjonarnej kina w nachodzący piątek (30.01.26r.) i sobotę (31.01.26r.) na godzinę przed każdym seansem filmowym.\nZapraszamy! \n„Magiczna Opera” – to miłosne perypetie małżeństwa Grażyny i Janusza: dwojga śpiewaków operowych. Bohaterowie podczas wspólnego popołudnia w domu rozmawiają o operze\, operetce\, sztuce i swoim własnym życiu. Małżeństwo nie zawsze się ze sobą zgadza….jak się zakończy wieczór\, może rozwodem? Okaże się na końcu przedstawienia…. \nOBSADA:\nMaria Malinowska\nKamil Pękala\nŚpiewakom towarzyszy zespół Artis w 4 osobowym składzie (I skrzypce\, II skrzypce\, pianino\, puzon)\noraz realizator światła i dźwięku. \nREALIZATORZY:\nTomasz Podsiadły – reżyseria ( http://www.podsiadly.com/ )\nJoanna Dziecięlewska – aranżacje muzyczne\nMarceau Pivert – scenariusz\nWojciech Szkodziński – reżyseria światła \nW programie m.in.:\n• G.Puccini: „O mio Babbino caro” aria z opery „Gianni Schicchi”\n• G.Bizet: Kuplety Torreadora z II aktu opery „Carmen”\n• J.Strauss: „Nad pięknym modrym Dunajem”\n• G. Carlos: Tango „Por una cabeza” z filmu „Zapach kobiety”\n• W.A. Mozart: „Marsz turecki”\n• Europe : „The Final Countdown”\n• F. Sartori : „Time to say Goodbye” z repertuaru Andrea Bocelli i Sarah Brightman\n• Wiązanka utworów: Z. Wiehler -„Ada to nie wypada” ; J.Krzeczek – „O mnie się nie martw” ; J.Petersburski – „Ta ostatnia niedziela”\n• F.Lehar: „ Usta milczą\, dusza śpiewa”\n• I.Kalman: „W rytm walczyka” duet z operetki „Księżniczka Czardasza”
URL:https://kursnagizycko.pl/kalendarz-wydarzen/koncert-walentynkowy-magiczna-opera/
LOCATION:Regionalny Park Edukacji\, Kultury i Turystyki w Rynie\, ul. Mikołaja Kopernika 16\, Ryn\, warmińsko-mazurskie\, 11-520\, Poland
CATEGORIES:wydarzenia
END:VEVENT
END:VCALENDAR