BEGIN:VCALENDAR
VERSION:2.0
PRODID:-//Kurs na Giżycko - ECPv6.1.3//NONSGML v1.0//EN
CALSCALE:GREGORIAN
METHOD:PUBLISH
X-WR-CALNAME:Kurs na Giżycko
X-ORIGINAL-URL:https://kursnagizycko.pl
X-WR-CALDESC:Events for Kurs na Giżycko
REFRESH-INTERVAL;VALUE=DURATION:PT1H
X-Robots-Tag:noindex
X-PUBLISHED-TTL:PT1H
BEGIN:VTIMEZONE
TZID:Europe/Warsaw
BEGIN:DAYLIGHT
TZOFFSETFROM:+0100
TZOFFSETTO:+0200
TZNAME:CEST
DTSTART:20260329T010000
END:DAYLIGHT
BEGIN:STANDARD
TZOFFSETFROM:+0200
TZOFFSETTO:+0100
TZNAME:CET
DTSTART:20261025T010000
END:STANDARD
END:VTIMEZONE
BEGIN:VEVENT
DTSTART;TZID=Europe/Warsaw:20260501T200000
DTEND;TZID=Europe/Warsaw:20260501T200000
DTSTAMP:20260424T213243
CREATED:20260415T104739Z
LAST-MODIFIED:20260415T104739Z
UID:10001191-1777665600-1777665600@kursnagizycko.pl
SUMMARY:Koncert - Załoga Dr. Bryga akustycznie
DESCRIPTION:Resort Niegocin zaprasza na koncert Załoga Dr. Bryga\n1 maja\, godz. 20:00
URL:https://kursnagizycko.pl/kalendarz-wydarzen/koncert-zaloga-dr-bryga-akustycznie/
LOCATION:Resort Niegocin\, ul. Niegocińska 7\, Wilkasy\, 11-500\, Poland
CATEGORIES:wydarzenia
ATTACH;FMTTYPE=image/jpeg:https://kursnagizycko.pl/wp-content/uploads/2026/04/zdb.jpg
END:VEVENT
END:VCALENDAR