BEGIN:VCALENDAR
VERSION:2.0
PRODID:-//Kurs na Giżycko - ECPv6.1.3//NONSGML v1.0//EN
CALSCALE:GREGORIAN
METHOD:PUBLISH
X-WR-CALNAME:Kurs na Giżycko
X-ORIGINAL-URL:https://kursnagizycko.pl
X-WR-CALDESC:Events for Kurs na Giżycko
REFRESH-INTERVAL;VALUE=DURATION:PT1H
X-Robots-Tag:noindex
X-PUBLISHED-TTL:PT1H
BEGIN:VTIMEZONE
TZID:Europe/Warsaw
BEGIN:DAYLIGHT
TZOFFSETFROM:+0100
TZOFFSETTO:+0200
TZNAME:CEST
DTSTART:20260329T010000
END:DAYLIGHT
BEGIN:STANDARD
TZOFFSETFROM:+0200
TZOFFSETTO:+0100
TZNAME:CET
DTSTART:20261025T010000
END:STANDARD
END:VTIMEZONE
BEGIN:VEVENT
DTSTART;VALUE=DATE:20260521
DTEND;VALUE=DATE:20260525
DTSTAMP:20260424T213633
CREATED:20260330T082803Z
LAST-MODIFIED:20260330T082803Z
UID:10001171-1779321600-1779667199@kursnagizycko.pl
SUMMARY:XI Międzynarodowy Turniej Piłki Siatkowej "Mazury Cup 2026"
DESCRIPTION:W dniach 21-24 maja 2026 r. w hali sportowej COS OPO Giżycko odbędzie się XI Międzynarodowy Turniej Piłki Siatkowej „MAZURY CUP 2026”. \nOrganizatorem wydarzenia jest Stowarzyszenie „Klub Sportowy Masuria Volley”. Jest to jedna z największych imprez siatkarskich na Warmii i Mazurach. W turnieju\, co roku bierze udział wielu byłych reprezentantów swoich krajów.
URL:https://kursnagizycko.pl/kalendarz-wydarzen/xi-miedzynarodowy-turniej-pilki-siatkowej-mazury-cup-2026/
LOCATION:COS-OPO Giżycko\, ul. Moniuszki 22\, Giżycko\, warmińsko-mazurskie\, 11-500\, Poland
CATEGORIES:wydarzenia
ATTACH;FMTTYPE=image/jpeg:https://kursnagizycko.pl/wp-content/uploads/2026/03/mazury-cup.jpg
END:VEVENT
END:VCALENDAR